BEGIN:VCALENDAR
VERSION:2.0
PRODID:-//ChamberMaster//Event Calendar 2.0//EN
METHOD:PUBLISH
X-PUBLISHED-TTL:P3D
REFRESH-INTERVAL:P3D
CALSCALE:GREGORIAN
BEGIN:VEVENT
DTSTART:20181012T220000Z
DTEND:20181013T020000Z
X-MICROSOFT-CDO-ALLDAYEVENT:FALSE
SUMMARY:Galileo Skyway: Reaching New Galaxies Gala
DESCRIPTION:Take flight with Galileo School for Gifted Learning at its\n\nfirst-annual fundraising gala event!\n\nEnjoy music\, entertainment\, a silent auction and a special\n\n"Are You Smarter Than a Fifth Grader?" rendition\,\n\nwhere local news and other noted personalities take the\n\nchallenge to go head-to-head with Galileo Fifth Graders.\n\nEvent proceeds will support the construction of a second campus in Seminole County\,\n\ndesigned to meet the growing demand for enrollment.
X-ALT-DESC;FMTTYPE=text/html:Take flight with Galileo School for Gifted Learning at its<br />\nfirst-annual fundraising gala event!<br />\nEnjoy music\, entertainment\, a silent auction and a special<br />\n&ldquo\;Are You Smarter Than a Fifth Grader?&rdquo\; rendition\,<br />\nwhere local news and other noted personalities take the<br />\nchallenge to go head-to-head with Galileo Fifth Graders.<br />\nEvent proceeds will support the construction of a second campus in Seminole County\,<br />\ndesigned to meet the growing demand for enrollment.
LOCATION:CFE Arena at UCF 12777 Gemini Blvd N. Orlando\, FL 32816
UID:e.2138.11811
SEQUENCE:3
DTSTAMP:20260424T023112Z
URL:https://business.seminolebusiness.org/events/details/galileo-skyway-reaching-new-galaxies-gala-11811
END:VEVENT

END:VCALENDAR
