BEGIN:VCALENDAR
VERSION:2.0
PRODID:-//ChamberMaster//Event Calendar 2.0//EN
METHOD:PUBLISH
X-PUBLISHED-TTL:P3D
REFRESH-INTERVAL:P3D
CALSCALE:GREGORIAN
BEGIN:VEVENT
DTSTART:20190920T223000Z
DTEND:20190921T013000Z
X-MICROSOFT-CDO-ALLDAYEVENT:FALSE
SUMMARY:Galileo Skyway: Reaching New Galaxies Gala 2019
DESCRIPTION:Galileo School for Gifted Learning takes flight again with their 2nd Annual Reaching New Galaxies Gala. Proceeds raised will support a second campus: Galileo Skyway. The event will be held at 6:30 p.m. on Friday\, September 20th at the Lake Mary Events Center. \n\n \n\nThe Gala will feature live music\, entertainment\, a silent auction and a special\n\n \n\n   "Are You Smarter Than a Fifth Grader?"\n\n       rendition\, where local celebrities and personalities go head-to-head with Galileo Fifth Graders. Notable guests include:  Florida Education Commissioner Richard Corcoran\, Seminole County Chamber President Jason Brodeur\, Longwood Mayor / WWE Wrestler Matt Morgan\, Pro Golfer Rob Snyder\, Allison Walker Torres from Spectrum News 13 and Mark Lehman from WKMG.
X-ALT-DESC;FMTTYPE=text/html:<p style="text-align: center\;"><span style="color:#000000\;"><span style="font-size:12px"><span style="font-family:comic sans ms">Galileo School for Gifted Learning&nbsp\;takes flight again with their 2nd Annual&nbsp\;Reaching New Galaxies Gala. Proceeds raised will support a second campus: Galileo Skyway. The event will be held at 6:30 p.m. on Friday\, September 20th&nbsp\;at the Lake Mary Events Center.&nbsp\;</span></span></span></p>\n\n<div style="text-align: center\;">&nbsp\;</div>\n\n<p style="text-align: center\;"><span style="color:#000000\;"><span style="font-size:12px"><span style="font-family:comic sans ms">The Gala will feature live music\, entertainment\, a silent auction and a special</span></span></span><br />\n&nbsp\;</p>\n\n<p style="text-align: center\;"><span style="color:#000000\;"><span style="font-family: &quot\;comic sans ms&quot\;\; font-size: 12px\;">&nbsp\; &nbsp\;&ldquo\;Are You Smarter Than a Fifth Grader?&rdquo\;</span></span></p>\n\n<div style="text-align: center\;"><span style="color:#000000\;"><span style="font-size:12px"><span style="font-family:comic sans ms">&nbsp\;&nbsp\;&nbsp\;&nbsp\;&nbsp\; &nbsp\;rendition\, where local celebrities and personalities go head-to-head with Galileo Fifth Graders. Notable guests include:&nbsp\; Florida Education Commissioner Richard Corcoran\, Seminole County Chamber President Jason Brodeur\, Longwood Mayor / WWE Wrestler Matt Morgan\, Pro Golfer Rob Snyder\, Allison Walker Torres from Spectrum News 13 and Mark Lehman from WKMG.</span></span></span></div>\n
LOCATION:Lake Mary Events Center 260 N Country Club Rd\, Lake Mary\, FL 32746
UID:e.2138.16555
SEQUENCE:3
DTSTAMP:20260422T022105Z
URL:https://business.seminolebusiness.org/events/details/galileo-skyway-reaching-new-galaxies-gala-2019-16555
END:VEVENT

END:VCALENDAR
