BEGIN:VCALENDAR
VERSION:2.0
PRODID:-//ChamberMaster//Event Calendar 2.0//EN
METHOD:PUBLISH
X-PUBLISHED-TTL:P3D
REFRESH-INTERVAL:P3D
CALSCALE:GREGORIAN
BEGIN:VEVENT
DTSTART:20190221T223000Z
DTEND:20190222T003000Z
X-MICROSOFT-CDO-ALLDAYEVENT:FALSE
SUMMARY:Get Connected at the Port
DESCRIPTION:Seminole State College is having an Open House at the Port of Sanford to spread awareness of the business incubator as well as the no cost services provided through the Center for Business Development.\n\nGreat networking\, delicious food\, drinks\, a DJ\, and door prizes!
X-ALT-DESC;FMTTYPE=text/html:<span style="color: rgb(31\, 73\, 125)\;"><span style="font-family: calibri\,sans-serif\;"><span style="font-size: 12pt\;">Seminole State College is having an Open House at the Port of Sanford to spread awareness of the business incubator as well as the <strong>no cost</strong> services provided through the Center for Business Development.<br />\nGreat networking\, delicious food\, drinks\, a DJ\, and door prizes!</span></span></span><br />\n<br />\n&nbsp\;
LOCATION:Seminole State College Center for Business Development 1445 Dolgner Pl Sanford\, FL 32771
UID:e.2138.14940
SEQUENCE:3
DTSTAMP:20260424T103357Z
URL:https://business.seminolebusiness.org/events/details/get-connected-at-the-port-14940
END:VEVENT

END:VCALENDAR
