BEGIN:VCALENDAR
VERSION:2.0
PRODID:-//ChamberMaster//Event Calendar 2.0//EN
METHOD:PUBLISH
X-PUBLISHED-TTL:P3D
REFRESH-INTERVAL:P3D
CALSCALE:GREGORIAN
BEGIN:VEVENT
DTSTART:20170415T141500Z
DTEND:20170415T180000Z
X-MICROSOFT-CDO-ALLDAYEVENT:FALSE
SUMMARY:Girls Only Try Ice Hockey for FREE
DESCRIPTION:Girls ages 4-12 are invited to Try Ice Hockey for FREE this Saturday from 10:15am-2:00pm! Participants will be on-ice from 11:15am-12:15pm\, and afterwards are invited to watch our all-girl hockey teams play in a half-ice jamboree\, check out the Tampa Bay Lighting's Ball Hockey Demo\, and enjoy a free barbeque lunch while supplies last!
X-ALT-DESC;FMTTYPE=text/html:Girls ages 4-12 are invited to Try Ice Hockey for FREE this Saturday from 10:15am-2:00pm! Participants will be on-ice from 11:15am-12:15pm\, and afterwards are invited to watch our all-girl hockey teams play in a half-ice jamboree\, check out the Tampa Bay Lighting&#39\;s Ball Hockey Demo\, and enjoy a free barbeque lunch while supplies last!
LOCATION:RDV Sportsplex Ice Den 8701 Maitland Summit Blvd. Orlando\, FL 32810
UID:e.2138.6705
SEQUENCE:3
DTSTAMP:20260423T194020Z
URL:https://business.seminolebusiness.org/events/details/girls-only-try-ice-hockey-for-free-6705
END:VEVENT

END:VCALENDAR
