BEGIN:VCALENDAR
VERSION:2.0
PRODID:-//ChamberMaster//Event Calendar 2.0//EN
METHOD:PUBLISH
X-PUBLISHED-TTL:P3D
REFRESH-INTERVAL:P3D
CALSCALE:GREGORIAN
BEGIN:VEVENT
DTSTART:20170216T220000Z
DTEND:20170217T000000Z
X-MICROSOFT-CDO-ALLDAYEVENT:FALSE
SUMMARY:Giveback Program - Supporting Habitat Wine Time Night
DESCRIPTION:Firefly & Lilies Supporting Habitat for the Month of February through their giveback program.\n\nJoin us on February 16 from 5 pm to 7 pm for a special Wine Time night.  20% of the proceeds will support Habitat Seminole Apopka.
X-ALT-DESC;FMTTYPE=text/html:<h1 style="text-align:center"><span style="color:#4B0082"><span style="font-size:28px"><strong>Firefly &amp\; Lilies Supporting Habitat for the Month of February through their giveback program.</strong></span></span></h1>\n\n<h4 style="text-align:center"><span style="font-size:24px">Join us on February 16 from 5 pm to 7 pm for a special Wine Time night. &nbsp\;20% of the proceeds will support Habitat Seminole Apopka.</span></h4>\n
LOCATION:Firefly & Lilies Gifts - Fashion - Home 2401 West State Road 434 Springs Plaza Longwood - Suite E161
UID:e.2138.6443
SEQUENCE:3
DTSTAMP:20260423T161402Z
URL:https://business.seminolebusiness.org/events/details/giveback-program-supporting-habitat-wine-time-night-6443
END:VEVENT

END:VCALENDAR
