BEGIN:VCALENDAR
VERSION:2.0
PRODID:-//ChamberMaster//Event Calendar 2.0//EN
METHOD:PUBLISH
X-PUBLISHED-TTL:P3D
REFRESH-INTERVAL:P3D
CALSCALE:GREGORIAN
BEGIN:VEVENT
DTSTART:20180326T120000Z
DTEND:20180326T180000Z
X-MICROSOFT-CDO-ALLDAYEVENT:FALSE
SUMMARY:Golf FORE Education to benefit The Foundation for Seminole County Public Schools
DESCRIPTION:Join The Foundation for Seminole County Public Schools for the 24th Annual Golf "FORE" Education Tournament\, presented by IOA\, on Monday\, March 26\, 2018 at The Legacy Club at Alaqua Lakes.\n\n\n\nThe 2018 Golf FORE Education Tournament will have limited availability so sign up today to hold your spot! This annual event is always a fun way to support the students and teachers of Seminole County Public Schools.\n\nAll funds raised through the Tournament support The Foundation's many programs. These include A Gift for Teaching-Seminole\, Take Stock in Children\, Grants for Great Ideas\, student scholarships\, and many other innovative programs.\n\nIf you can't swing a foursome\, please consider a donation of a prize to our drawings and auction\, or a cash contribution.  Dining and retail gift cards\, wine and liquor\, golf equipment and clothing are all welcome. Download the 2018 Golf Donation Form.
X-ALT-DESC;FMTTYPE=text/html:<p>Join The Foundation for Seminole County Public Schools for the&nbsp\;<strong>24th Annual Golf &ldquo\;FORE&rdquo\; Education Tournament\, presented by IOA\,</strong>&nbsp\;on&nbsp\;<strong>Monday\, March 26\, 2018 at The Legacy Club at Alaqua Lakes</strong><em>.</em><br />\n<br />\nThe 2018 Golf FORE Education Tournament will have limited availability so sign up today to hold your spot! This annual event is always a fun way to support the students and teachers of Seminole County Public Schools.</p>\n\n<p>All funds raised through the Tournament support The Foundation&rsquo\;s many programs. These include A Gift for Teaching-Seminole\, Take Stock in Children\, Grants for Great Ideas\, student scholarships\, and many other innovative programs.</p>\n\n<p>If you can&rsquo\;t swing a foursome\, please consider a donation of a prize to our drawings and auction\, or a cash contribution.&nbsp\; Dining and retail gift cards\, wine and liquor\,&nbsp\;golf equipment and clothing are all welcome.&nbsp\;Download the&nbsp\;<a href="http://foundationscps.org/wp-content/uploads/2017/10/Golf-FORE-Education-_Donation-Request-_2018.pdf" rel="attachment wp-att-1867" style="border: 0px\; font-family: inherit\; font-style: inherit\; font-weight: inherit\; margin: 0px\; outline: 0px\; padding: 0px\; vertical-align: baseline\; color: rgb(229\, 27\, 36)\;" target="_blank">2018 Golf Donation Form</a>.</p>\n
LOCATION:The Legacy Club at Alaqua Lakes 1700 Alaqua Lakes Blvd. Longwood\, FL 32779
UID:e.2138.8715
SEQUENCE:3
DTSTAMP:20260424T144433Z
URL:https://business.seminolebusiness.org/events/details/golf-fore-education-to-benefit-the-foundation-for-seminole-county-public-schools-03-26-2018-8715
END:VEVENT

END:VCALENDAR
