BEGIN:VCALENDAR
VERSION:2.0
PRODID:-//ChamberMaster//Event Calendar 2.0//EN
METHOD:PUBLISH
X-PUBLISHED-TTL:P3D
REFRESH-INTERVAL:P3D
CALSCALE:GREGORIAN
BEGIN:VEVENT
DTSTART;VALUE=DATE:20170403
DTEND;VALUE=DATE:20170404
TRANSP:TRANSPARENT
X-MICROSOFT-CDO-ALLDAYEVENT:TRUE
SUMMARY:Golf FORE Education to benefit The Foundation for Seminole County Public Schools
DESCRIPTION:Join The Foundation for Seminole County Public Schools for the 23rd Annual Golf "FORE" Education Tournament\, presented by IOA\, on Monday\, April 3\, 2017 at The Legacy Club at Alaqua Lakes. The format is Two-Flight Shotgun with 8 AM and 1:30 PM start times.\n\nAll funds raised through the Tournament support The Foundation's many programs. These include Backpacks for Success and A Gift for Teaching-Seminole which provides new backpacks and school supplies to students in need\; Take Stock in Children\, a student scholarship program that provides support and mentoring\; Grants for Great Ideas provides grants to teachers for creative and innovative programs\; as well as student scholarships.\n\nIf you can't swing a foursome\, please consider a donation of a prize to our drawings and auction\, or a cash contribution.  Dining and retail gift cards\, wine and liquor\, golf equipment and clothing are all welcome. Download the 2017 Golf Donation Form  and fax to 407-320-0285 or email us at mercadmz@scps.k12.fl.us.
X-ALT-DESC;FMTTYPE=text/html:<p>Join The Foundation for Seminole County Public Schools for the&nbsp\;<strong>23rd Annual Golf &ldquo\;FORE&rdquo\; Education Tournament\, presented by IOA\,</strong>&nbsp\;on&nbsp\;<strong>Monday\, April 3\, 2017 at The Legacy Club at Alaqua Lakes</strong><em>. The format is Two-Flight Shotgun with 8 AM and 1:30 PM start times.</em></p>\n\n<p>All funds raised through the Tournament support The Foundation&rsquo\;s many programs. These include Backpacks for Success and A Gift for Teaching-Seminole which provides new backpacks and school supplies to students in need\; Take Stock in Children\, a student scholarship program that provides support and mentoring\; Grants for Great Ideas provides grants to teachers for creative and innovative programs\; as well as student scholarships.</p>\n\n<p>If you can&rsquo\;t swing a foursome\, please consider a donation of a prize to our drawings and auction\, or a cash contribution.&nbsp\; Dining and retail gift cards\, wine and liquor\,&nbsp\;golf equipment and clothing are all welcome.&nbsp\;Download the&nbsp\;<a href="http://foundationscps.org/events/23rd-annual-golf-fore-education-tournament-presented-by-ioa/attachment/inkind-donation-peforated-form/" rel="attachment wp-att-1867" style="border: 0px\; font-family: inherit\; font-style: inherit\; font-weight: inherit\; margin: 0px\; outline: 0px\; padding: 0px\; vertical-align: baseline\; color: rgb(229\, 27\, 36)\;" target="_blank">2017 Golf Donation Form&nbsp\;</a>&nbsp\;and&nbsp\;fax to&nbsp\;407-320-0285&nbsp\;or email us at&nbsp\;<a href="mailto:mercadmz@scps.k12.fl.us" style="border: 0px\; font-family: inherit\; font-style: inherit\; font-weight: inherit\; margin: 0px\; outline: 0px\; padding: 0px\; vertical-align: baseline\; color: rgb(229\, 27\, 36)\;">mercadmz@scps.k12.fl.us</a>.</p>\n
LOCATION:The Legacy Club at Alaqua Lakes 1700 Alaqua Lakes Blvd. Longwood\, FL 32779
UID:e.2138.6456
SEQUENCE:3
DTSTAMP:20260423T193850Z
URL:https://business.seminolebusiness.org/events/details/golf-fore-education-to-benefit-the-foundation-for-seminole-county-public-schools-6456
END:VEVENT

END:VCALENDAR
