BEGIN:VCALENDAR
VERSION:2.0
PRODID:-//ChamberMaster//Event Calendar 2.0//EN
METHOD:PUBLISH
X-PUBLISHED-TTL:P3D
REFRESH-INTERVAL:P3D
CALSCALE:GREGORIAN
BEGIN:VEVENT
DTSTART:20160505T190000Z
DTEND:20160505T220000Z
X-MICROSOFT-CDO-ALLDAYEVENT:FALSE
SUMMARY:Grand Opening and Open House Celebration!
DESCRIPTION:Join us at the VITAS & Home Instead Tremont Location for the grand opening and open house celebration on Wednesday\, May 11\, 2016 from 3p-6p.\n\n\n\n- Tour our new location\n\n- Meet our Staff\n\n- Learn about the services we bring to patients and their families\n\n- Ribbon-cutting ceremony\n\n- Appetizers & beverages\n\n- Raffles & prizes- including a chance to win an iPad!
X-ALT-DESC;FMTTYPE=text/html:Join us at the VITAS &amp\; Home Instead Tremont Location for the grand opening and open house celebration on Wednesday\, May 11\, 2016 from 3p-6p.<br />\n<br />\n- Tour our new location<br />\n- Meet our Staff<br />\n- Learn about&nbsp\;the services we bring to patients and their families<br />\n- Ribbon-cutting ceremony<br />\n- Appetizers &amp\; beverages<br />\n- Raffles &amp\; prizes- including a chance to win an iPad!<br />\n&nbsp\;
LOCATION:Tremont - 7015 Red Bug Lake Rd. Oviedo FL 32765
UID:e.2138.4480
SEQUENCE:3
DTSTAMP:20260426T000841Z
URL:https://business.seminolebusiness.org/events/details/grand-opening-and-open-house-celebration-05-05-2016-4480
END:VEVENT

END:VCALENDAR
