BEGIN:VCALENDAR
VERSION:2.0
PRODID:-//ChamberMaster//Event Calendar 2.0//EN
METHOD:PUBLISH
X-PUBLISHED-TTL:P3D
REFRESH-INTERVAL:P3D
CALSCALE:GREGORIAN
BEGIN:VEVENT
DTSTART;VALUE=DATE:20161007
DTEND;VALUE=DATE:20161008
TRANSP:TRANSPARENT
X-MICROSOFT-CDO-ALLDAYEVENT:TRUE
SUMMARY:Grand Opening Celebration
DESCRIPTION:Grand Opening Celebration - Firefly & Lilies\n\nIn-Store Specials All Day\nA specialty gift and women's boutique offering affordable\, unique gifts that warm the heart and that celebrate life's events.\n\nFirst 25 will receive a Free Gift!!!\n\nEnter to win great prizes\, products and gift certificates!
X-ALT-DESC;FMTTYPE=text/html:<h1>Grand Opening Celebration - Firefly &amp\; Lilies</h1>\n\n<h2>In-Store Specials All Day</h2>\n<span style="font-size:18px"><span style="font-family:comic sans ms"><strong>A specialty gift and women&#39\;s boutique offering affordable\, unique gifts that warm the heart and that celebrate life&#39\;s events.</strong></span></span>\n\n<h1><strong><span style="color:rgb(178\, 34\, 34)">First 25 will receive a Free Gift!!!</span></strong></h1>\n\n<h2>Enter to win great prizes\, products and gift certificates!</h2>\n
LOCATION:Firefly & Lilies 2401 W State Road 434\, Suite E161\, Springs Plaza Longwood\, FL 32779
UID:e.2138.4903
SEQUENCE:3
DTSTAMP:20260425T164550Z
URL:https://business.seminolebusiness.org/events/details/grand-opening-celebration-4903
END:VEVENT

END:VCALENDAR
