BEGIN:VCALENDAR
VERSION:2.0
PRODID:-//ChamberMaster//Event Calendar 2.0//EN
METHOD:PUBLISH
X-PUBLISHED-TTL:P3D
REFRESH-INTERVAL:P3D
CALSCALE:GREGORIAN
BEGIN:VEVENT
DTSTART:20161006T210000Z
DTEND:20161006T230000Z
X-MICROSOFT-CDO-ALLDAYEVENT:FALSE
SUMMARY:Firefly & Lilies - Grand Opening Kick Off
DESCRIPTION:Join our Celebration Kick Off\n\nThursday Wine Time\n\nFirefly & Lilies opened their new specialty gift and women's boutique offering unique and affordable gifts that warm the heart and celebrate life's events!\nFirst 25 to arrive receive a free gift.\n\nEnter to Win Great Products\, Clothes and Gift Certificates!
X-ALT-DESC;FMTTYPE=text/html:<h1><span style="color:#B22222">Join our Celebration Kick Off<br />\nThursday Wine Time</span></h1>\n\n<h2>Firefly &amp\; Lilies opened their new specialty gift and women&#39\;s boutique offering unique and affordable gifts that warm the heart and celebrate life&#39\;s events!</h2>\n<span style="color:#3399ff"><span style="font-size:14px"><strong><span style="font-size:16px">First 25 to arrive receive a free gift.<br />\nEnter to Win Great Products\, Clothes and Gift Certificates!</span></strong></span></span><br />\n&nbsp\;
LOCATION:2401 West State Road 434 Suite E161 Springs Plaza Longwood\, FL
UID:e.2138.4902
SEQUENCE:3
DTSTAMP:20260425T164716Z
URL:https://business.seminolebusiness.org/events/details/grand-opening-celebration-kick-off-4902
END:VEVENT

END:VCALENDAR
