BEGIN:VCALENDAR
VERSION:2.0
PRODID:-//ChamberMaster//Event Calendar 2.0//EN
METHOD:PUBLISH
X-PUBLISHED-TTL:P3D
REFRESH-INTERVAL:P3D
CALSCALE:GREGORIAN
BEGIN:VEVENT
DTSTART;VALUE=DATE:20160505
DTEND;VALUE=DATE:20160506
TRANSP:TRANSPARENT
X-MICROSOFT-CDO-ALLDAYEVENT:TRUE
SUMMARY:Grand Opening Cocktail Party Celebration
DESCRIPTION:Advanced Family Care\, Dr. Magued Ibrahim\, is now open in Lake Mary and will hold their Grand Opening Cocktail Party celebration and tours\, open to the community\, on Thursday\, May 5th from 6 pm to 8 pm.  Dr. Ibrahim offers comprehensive care for adults\, pediatric\, geriatrics and women's health.
X-ALT-DESC;FMTTYPE=text/html:<span style="font-size:14px"><span style="font-family:arial\,helvetica\,sans-serif"><span style="color:rgb(192\, 0\, 0)">Advanced Family Care\, Dr. Magued Ibrahim\, is now open in Lake Mary and will hold their Grand Opening Cocktail Party celebration and tours\, open to the community\, on Thursday\, May 5<sup>th</sup> from 6 pm to 8 pm.&nbsp\; </span></span><span style="font-family:arial\,sans-serif"><span style="font-family:arial\,helvetica\,sans-serif">Dr. Ibrahim offers comprehensive care for adults\, pediatric\, geriatrics and women&rsquo\;s health</span>.</span></span><br />\n<br />\n&nbsp\;
LOCATION:Central Parc at Heathrow\, 978 International Parkway Lake Mary\, Florida
UID:e.2138.4450
SEQUENCE:3
DTSTAMP:20260426T001848Z
URL:https://business.seminolebusiness.org/events/details/grand-opening-cocktail-party-celebration-05-05-2016-4450
END:VEVENT

END:VCALENDAR
