BEGIN:VCALENDAR
VERSION:2.0
PRODID:-//ChamberMaster//Event Calendar 2.0//EN
METHOD:PUBLISH
X-PUBLISHED-TTL:P3D
REFRESH-INTERVAL:P3D
CALSCALE:GREGORIAN
BEGIN:VEVENT
DTSTART:20161013T210000Z
DTEND:20161013T230000Z
X-MICROSOFT-CDO-ALLDAYEVENT:FALSE
SUMMARY:GRAND OPENING KICK OFF CELEBRATION
DESCRIPTION:Grand Opening Kick Off!!!\n\n Rescheduled due to Hurricane Matthew\n\nJoin us on Thursday\, October 13 from 5 pm to 7 pm\n\nWine Time and Chocolate\n\nFirst 25 Receive Free Gift\n\nEnter to Win Great Products\, Clothes\, and Gift Certificates!!
X-ALT-DESC;FMTTYPE=text/html:<h2 style="text-align:center">Grand Opening Kick Off!!!<br />\n&nbsp\;Rescheduled due to Hurricane Matthew</h2>\n\n<h3 style="text-align:center">Join us on Thursday\, October 13 from 5 pm to 7 pm</h3>\n\n<h2 style="text-align:center"><span style="color:#B22222"><span style="font-family:comic sans ms">Wine Time and Chocolate</span></span></h2>\n\n<h3 style="text-align:center"><span style="color:#0000FF"><span style="font-size:18px"><span style="font-family:comic sans ms">First 25 Receive Free Gift<br />\nEnter to Win Great Products\, Clothes\, and Gift Certificates!!</span></span></span></h3>\n\n<h4 style="text-align:center">&nbsp\;</h4>\n
LOCATION:2401 West State Road 434 Suite E161 Longwood\, Florida
UID:e.2138.5726
SEQUENCE:3
DTSTAMP:20260425T164716Z
URL:https://business.seminolebusiness.org/events/details/grand-opening-kick-off-celebration-5726
END:VEVENT

END:VCALENDAR
