BEGIN:VCALENDAR
VERSION:2.0
PRODID:-//ChamberMaster//Event Calendar 2.0//EN
METHOD:PUBLISH
X-PUBLISHED-TTL:P3D
REFRESH-INTERVAL:P3D
CALSCALE:GREGORIAN
BEGIN:VEVENT
DTSTART:20190213T220000Z
DTEND:20190214T000000Z
X-MICROSOFT-CDO-ALLDAYEVENT:FALSE
SUMMARY:Grand Opening of 520 on the Water
DESCRIPTION:Come to the grand opening of the newest event center in Sanford\, Fl.\,  located on Lake Monroe with the best view of the Lake and the best Sunset in Sanford.  We will have a DJ\, food\, drinks and door prizes.  We will be offering discounts for people attending the event if they book this month.
X-ALT-DESC;FMTTYPE=text/html:Come to the grand opening of the newest event center in Sanford\, Fl.\,&nbsp\; located on Lake Monroe with the best view of the Lake and the best Sunset in Sanford.&nbsp\; We will have a DJ\, food\, drinks and door prizes.&nbsp\; We will be offering discounts for people attending the event if they book this month.
LOCATION:520 on the Water 520 N Palmetto Ave Sanford\, Fl 32771
UID:e.2138.14927
SEQUENCE:3
DTSTAMP:20260422T130525Z
URL:https://business.seminolebusiness.org/events/details/grand-opening-of-520-on-the-water-14927
END:VEVENT

END:VCALENDAR
