BEGIN:VCALENDAR
VERSION:2.0
PRODID:-//ChamberMaster//Event Calendar 2.0//EN
METHOD:PUBLISH
X-PUBLISHED-TTL:P3D
REFRESH-INTERVAL:P3D
CALSCALE:GREGORIAN
BEGIN:VEVENT
DTSTART:20180123T223000Z
DTEND:20180124T003000Z
X-MICROSOFT-CDO-ALLDAYEVENT:FALSE
SUMMARY:Grand Opening of our Level II NICU at Florida Hospital Altamonte
DESCRIPTION:Please join us as we celebrate the opening of our Level II NICU at Florida Hospital Altamonte. This will be the first and only NICU in Seminole County.\n\nRefreshments will be served.\n\nBrief program to begin at 6:00 pm.
X-ALT-DESC;FMTTYPE=text/html:Please join us as we celebrate the opening of our Level II NICU at Florida Hospital Altamonte. This will be the first and only NICU in Seminole County.<br />\nRefreshments will be served.<br />\nBrief program to begin at 6:00 pm.
LOCATION:Florida Hospital Altamonte 601 East Altamonte Drive Altamonte Springs\, FL 32701 Follow the footprints to the Fourth Floor
UID:e.2138.8723
SEQUENCE:3
DTSTAMP:20260424T094514Z
URL:https://business.seminolebusiness.org/events/details/grand-opening-of-our-level-ii-nicu-at-florida-hospital-altamonte-8723
END:VEVENT

END:VCALENDAR
