BEGIN:VCALENDAR
VERSION:2.0
PRODID:-//ChamberMaster//Event Calendar 2.0//EN
METHOD:PUBLISH
X-PUBLISHED-TTL:P3D
REFRESH-INTERVAL:P3D
CALSCALE:GREGORIAN
BEGIN:VEVENT
DTSTART:20190211T220000Z
DTEND:20190212T020000Z
X-MICROSOFT-CDO-ALLDAYEVENT:FALSE
SUMMARY:Grand Opening Party
DESCRIPTION:Grand Opening Celebration Party\n\n\n\nRibbon cutting\, reception\, cocktail hour\, sweets & of course a lot of social dancing!
X-ALT-DESC;FMTTYPE=text/html:Grand Opening Celebration Party<br />\n<br />\nRibbon cutting\, reception\, cocktail hour\, sweets &amp\; of course a lot of social dancing!
LOCATION:La Imperial Dance 242 Wheelhouse Ln suite 1240 Lake Mary\, FL 32746
UID:e.2138.14893
SEQUENCE:3
DTSTAMP:20260422T125824Z
URL:https://business.seminolebusiness.org/events/details/grand-opening-party-14893
END:VEVENT

END:VCALENDAR
