BEGIN:VCALENDAR
VERSION:2.0
PRODID:-//ChamberMaster//Event Calendar 2.0//EN
METHOD:PUBLISH
X-PUBLISHED-TTL:P3D
REFRESH-INTERVAL:P3D
CALSCALE:GREGORIAN
BEGIN:VEVENT
DTSTART:20161006T150000Z
DTEND:20161006T180000Z
X-MICROSOFT-CDO-ALLDAYEVENT:FALSE
SUMMARY:Great Impressions' Holiday Promotional Products Showcase
DESCRIPTION:You are Invited to Our\n\nHoliday Promotional Products Showcase\n\nCo-Hosted by Boston Lobster Feast\n\nFeaturing Gifts & Incentives\n\nFor Clients & Staff\n\nEnjoy Networking\, Free Samples and FREE Lunch\n\n \n\n\nBring plenty of  business cards for samples and to enter for a chance to win a door prize.\n\nRSVP via email\n\nphone 407-647-5151 or Fax 407-647-5282\n\nby Thursday September 29th\n\nFor each person\, please include: \n\nContact Name\, Company\, Mailing Address\, Phone and Email address
X-ALT-DESC;FMTTYPE=text/html:<div style="text-align:center"><span style="color:#0000CD"><span style="font-size:20px"><span style="font-family:times new roman">You are Invited to Our</span></span></span><br />\n<span style="color:#FF0000"><span style="font-size:20px"><span style="font-family:times new roman"><u>Holiday&nbsp\;Promotional Products Showcase</u></span></span></span><br />\n<span style="color:#0000CD"><span style="font-size:20px"><span style="font-family:times new roman">Co-Hosted by Boston Lobster Feast<br />\nFeaturing Gifts &amp\; Incentives<br />\nFor Clients &amp\; Staff</span></span></span><br />\n<span style="font-family:times new roman\; font-size:20px"><span style="color:#0000CD">Enjoy Networking\, Free Samples and FREE Lunch</span></span><br />\n&nbsp\;</div>\n\n<div>\n<hr /><span style="font-family:times new roman"><span style="color:#0000CD"><span style="font-size:16px">Bring plenty of &nbsp\;business cards for samples and to enter for a chance to win a door prize.</span></span></span></div>\n\n<div><span style="font-size:18px"><span style="font-family:times new roman"><span style="color:#FF0000">RSVP <a href="mailto:kgw@gimpressions.com">via email</a><br />\nphone 407-647-5151 or Fax 407-647-5282<br />\nby Thursday September 29th</span><br />\n<span style="color:#0000CD">For each person\, please include:&nbsp\;<br />\nContact Name\, Company\, Mailing Address\, Phone and Email address</span></span></span></div>\n
LOCATION:Boston Lobster Feast 8731 International Drive Orlando\, FL
UID:e.2138.4877
SEQUENCE:3
DTSTAMP:20260425T165026Z
URL:https://business.seminolebusiness.org/events/details/great-impressions-holiday-promotional-products-showcase-4877
END:VEVENT

END:VCALENDAR
