BEGIN:VCALENDAR
VERSION:2.0
PRODID:-//ChamberMaster//Event Calendar 2.0//EN
METHOD:PUBLISH
X-PUBLISHED-TTL:P3D
REFRESH-INTERVAL:P3D
CALSCALE:GREGORIAN
BEGIN:VEVENT
DTSTART:20170629T203000Z
DTEND:20170629T233000Z
X-MICROSOFT-CDO-ALLDAYEVENT:FALSE
SUMMARY:Greater Orlando Aviation Authority SOUTH TERMINAL C-PHASE 1 Construction Program Presentation for Small Businesses
DESCRIPTION:New Construction Pre-Bid Meeting for GOAA South Terminal C Phase 1\nRSVP by June 26\, 2017 at sbd-events@goaa.org\n\nFor More Information:\n\nTurner-Kiewit Joint Venture \n\nVictor Perry\n\n510-410-3316\n\nvperry@tcco.com\n\nHensel Phelps Construction \n\nJoseph Giunta\n\n407-856-2400\, ext. 2342\n\njgiunta@henselphelps.com\n\nSmall Business Development Department \n\nGreater Orlando Aviation Authority 407-825-7133\n\nwww.orlandoairports.net/small_business
X-ALT-DESC;FMTTYPE=text/html:New Construction Pre-Bid Meeting for GOAA South Terminal C Phase 1\n<p>RSVP by June 26\, 2017 at sbd-events@goaa.org</p>\n\n<p style="text-align: justify\;"><u><strong>For More Information:</strong></u></p>\n\n<p><strong>Turner-Kiewit Joint Venture </strong></p>\n\n<p>Victor Perry</p>\n\n<p>510-410-3316</p>\n\n<p>vperry@tcco.com</p>\n\n<p><strong>Hensel Phelps Construction </strong></p>\n\n<p>Joseph Giunta</p>\n\n<p>407-856-2400\, ext. 2342</p>\n\n<p>jgiunta@henselphelps.com</p>\n\n<p><strong>Small Business Development Department </strong></p>\n\n<p>Greater Orlando Aviation Authority 407-825-7133</p>\n\n<p>www.orlandoairports.net/small_business</p>\n
LOCATION:Location: Orlando Executive Airport 365 Rickenbacker Dr. Orlando\, FL 32803
UID:e.2138.7584
SEQUENCE:3
DTSTAMP:20260423T223426Z
URL:https://business.seminolebusiness.org/events/details/greater-orlando-aviation-authority-south-terminal-c-phase-1-construction-program-presentation-for-small-businesses-7584
END:VEVENT

END:VCALENDAR
