BEGIN:VCALENDAR
VERSION:2.0
PRODID:-//ChamberMaster//Event Calendar 2.0//EN
METHOD:PUBLISH
X-PUBLISHED-TTL:P3D
REFRESH-INTERVAL:P3D
CALSCALE:GREGORIAN
BEGIN:VEVENT
DTSTART:20170504T210000Z
DTEND:20170505T000000Z
X-MICROSOFT-CDO-ALLDAYEVENT:FALSE
SUMMARY:Greenbuilt Home Solutions Grand Opening/Ribbon Cutting
DESCRIPTION:Greenbuilt Home Solutions will be celebrating the Grand Opening of their new offices at 1111 N. Ronald Reagan Blvd #101 in Longwood. There will be great prizes like a weekend at The Shores in Daytona Shores\, a cool green bike plus many others! There will be food\, beer\, wine\, music. Ribbon cutting will be at 6. You have to be present to win prizes. We look forward to seeing you there
X-ALT-DESC;FMTTYPE=text/html:Greenbuilt Home Solutions will be celebrating the Grand Opening of their new offices at 1111 N. Ronald Reagan Blvd #101 in Longwood. There will be great prizes like a weekend at The Shores in Daytona Shores\, a cool green bike plus many others! There will be food\, beer\, wine\, music. Ribbon cutting will be at 6. You have to be present to win prizes. We look forward to seeing you there
LOCATION:Longwood in The Boyton Plaza 1111 N. Ronald Reagan Blvd #101
UID:e.2138.6726
SEQUENCE:3
DTSTAMP:20260423T223332Z
URL:https://business.seminolebusiness.org/events/details/greenbuilt-home-solutions-grand-opening-ribbon-cutting-6726
END:VEVENT

END:VCALENDAR
