BEGIN:VCALENDAR
VERSION:2.0
PRODID:-//ChamberMaster//Event Calendar 2.0//EN
METHOD:PUBLISH
X-PUBLISHED-TTL:P3D
REFRESH-INTERVAL:P3D
CALSCALE:GREGORIAN
BEGIN:VEVENT
DTSTART:20181101T003000Z
DTEND:20181101T020000Z
X-MICROSOFT-CDO-ALLDAYEVENT:FALSE
SUMMARY:Halloween Dance Party
DESCRIPTION:Please join us at La Imperial Dance Lake Mary dance studio for a Halloween Dance party where there will be a lot of games and prices. Wear your favorite halloween costume to enter our costume contest. The Party is completely FREE and you can bring as many guests as you wish.\n\nSee you all at La Imperial Dance in Lake Mary on October 31st at 8:30pm.
X-ALT-DESC;FMTTYPE=text/html:Please join us at La Imperial Dance Lake Mary dance studio for a&nbsp\;Halloween Dance party where&nbsp\;there will be a lot of games and prices. Wear your favorite halloween costume to enter our costume contest. The Party is completely FREE and you can bring as many guests as you wish.<br />\nSee you all at La Imperial Dance in Lake Mary on October 31st at 8:30pm.
LOCATION:La Imperial Dance Lake Mary 242 Wheelhouse Ln Suit #1240 Lake Mary FL\, 32746
UID:e.2138.14797
SEQUENCE:3
DTSTAMP:20260424T035658Z
URL:https://business.seminolebusiness.org/events/details/halloween-dance-party-14797
END:VEVENT

END:VCALENDAR
