BEGIN:VCALENDAR
VERSION:2.0
PRODID:-//ChamberMaster//Event Calendar 2.0//EN
METHOD:PUBLISH
X-PUBLISHED-TTL:P3D
REFRESH-INTERVAL:P3D
CALSCALE:GREGORIAN
BEGIN:VEVENT
DTSTART;VALUE=DATE:20160705
DTEND;VALUE=DATE:20160706
TRANSP:TRANSPARENT
X-MICROSOFT-CDO-ALLDAYEVENT:TRUE
SUMMARY:Hampton Inn and Suites Lake Mary Blood Drive
DESCRIPTION:The Hampton Inn and Suites Lake Mary will be hosting a Blood Drive on July 5 from 11:00AM-4:00PM.  The Big Red Bus will be stationed in our parking lot and each donor will receive a free movie ticket as well as a Buy One\, Get One Free offer for the Crayola Experience.  \n\nWe welcome all willing participants to stop by on Tuesday\, July 5 and donate.  I hope we will see you then!\n\nAppointments are recommended and if you or any of your colleagues would like to sign up for a time\, please go to www.oneblooddonor.org and use sponsor code #35118 for our location.
X-ALT-DESC;FMTTYPE=text/html:<span style="font-family:arial\,helvetica\,sans-serif"><span style="color:rgb(0\, 0\, 0)"><span style="font-size:10pt">The Hampton Inn and Suites Lake Mary will be hosting a Blood Drive on July 5 from 11:00AM-4:00PM.&nbsp\; The Big Red Bus will be stationed in our parking lot and each donor will receive a free movie ticket as well as a Buy One\, Get One Free offer for the Crayola Experience.&nbsp\; </span><br />\n<span style="font-size:10pt">We welcome all willing participants to stop by on Tuesday\, July 5 and donate.&nbsp\; I hope we will see you then!</span></span><br />\n<span style="font-size:10pt"><span style="color:rgb(0\, 0\, 0)">Appointments are recommended and if you or any of your colleagues would like to sign up for a time\, please go to </span><a href="http://www.oneblooddonor.org/"><span style="color:rgb(0\, 0\, 0)">www.oneblooddonor.org</span></a><span style="color:rgb(0\, 0\, 0)"> and use sponsor code #35118 for our location.</span></span></span>
LOCATION:Hampton Inn and Suites Lake Mary 850 Village Oak Lane Lake Mary FL 32746
UID:e.2138.4594
SEQUENCE:3
DTSTAMP:20260425T212301Z
URL:https://business.seminolebusiness.org/events/details/hampton-inn-and-suites-lake-mary-blood-drive-07-05-2016-4594
END:VEVENT

END:VCALENDAR
