BEGIN:VCALENDAR
VERSION:2.0
PRODID:-//ChamberMaster//Event Calendar 2.0//EN
METHOD:PUBLISH
X-PUBLISHED-TTL:P3D
REFRESH-INTERVAL:P3D
CALSCALE:GREGORIAN
BEGIN:VEVENT
DTSTART:20160818T213000Z
DTEND:20160818T233000Z
X-MICROSOFT-CDO-ALLDAYEVENT:FALSE
SUMMARY:Happy Hour SculpSure Event!!!
DESCRIPTION:Kids are going back to school...Time to Celebrate YOU!\n\nJoin us for our SculpSure Event!!\n\nThere will be Refreshments\, a Live Demonstration\, Complementary Consultations\, Raffle Prizes and Promotional Pricing!
X-ALT-DESC;FMTTYPE=text/html:<div style="text-align: center\;">Kids are going back to school...Time to Celebrate YOU!<br />\n<strong><span style="background-color:#FF8C00">Join us for our SculpSure Event!!</span></strong><br />\nThere will be Refreshments\, a Live Demonstration\, Complementary Consultations\, Raffle Prizes and Promotional Pricing!</div>\n
LOCATION:1331 S. International Pkwy. #1251 Lake Mary\, FL 32746 321.363.1745
UID:e.2138.4805
SEQUENCE:3
DTSTAMP:20260425T192636Z
URL:https://business.seminolebusiness.org/events/details/happy-hour-sculpsure-event-08-18-2016-4805
END:VEVENT

END:VCALENDAR
