BEGIN:VCALENDAR
VERSION:2.0
PRODID:-//ChamberMaster//Event Calendar 2.0//EN
METHOD:PUBLISH
X-PUBLISHED-TTL:P3D
REFRESH-INTERVAL:P3D
CALSCALE:GREGORIAN
BEGIN:VEVENT
DTSTART:20250830T123000Z
DTEND:20250830T200000Z
X-MICROSOFT-CDO-ALLDAYEVENT:FALSE
SUMMARY:Happy Tails\, Bright Smiles: Sedation-Free Dental Cleaning for YOUR furry family member!
DESCRIPTION:Give your furry friend the gift of a healthy smile at our upcoming Anesthesia-Free Dental Cleaning event\, running from August 25th - 30th! This is our third event this year dedicated to helping your pets achieve optimal oral health.\n\nAnesthesia-Free Dental Cleanings offer a gentle yet effective approach to removing plaque and tartar buildup without the risks or recovery associated with sedation.\n\nHere's what your pet will receive during the cleaning:\n\n\n	Thorough plaque and tartar removal: Our experienced pet care professionals will meticulously remove plaque and tartar both above and below the gumline to combat the onset of dental disease. This is vital for preventing long-term illnesses linked to tartar accumulation\, like heart\, kidney\, and liver disease.\n	Gum massage and Bacterial Mouth Spray: These components soothe the gums and help combat bacteria in the mouth for fresher breath and healthier oral flora.\n	Before and after pictures: Witness the remarkable transformation of your pet's smile with clear visual evidence of the cleaning's effectiveness.\n\n\nWhy choose our Anesthesia-Free Dental Cleanings?\n\n\n	Reduced Risk: Avoids the potential complications and prolonged recovery associated with general anesthesia.\n	Comfort & Stress-Free Experience: Allows pets who are not suitable for anesthesia or are prone to anxiety to receive necessary dental care.\n	Early Detection and Prevention: Regular cleanings help catch dental issues early\, preventing their progression to more serious and painful conditions.\n	Supports Overall Health: By reducing harmful bacteria in the mouth\, you minimize the risk of infections spreading to other vital organs\, impacting your pet's long-term health.\n\n\nSee the amazing results for yourself!\n\nBefore and after results achieved by the contracted pet care professional are available.\n\nSpaces are limited! Book your pet's appointment today for a healthier\, happier life!\n\n \n\nImportant notes to consider:\n\n\n	This procedure is most effective for pets with mild to moderate tartar and plaque accumulation.\n	Pets with severe periodontal disease or extensive dental issues may still require anesthesia for thorough treatment.
X-ALT-DESC;FMTTYPE=text/html:<div>\n<div>\n<div>\n<div>\n<div>Give your furry friend the gift of a healthy smile at our upcoming Anesthesia-Free Dental Cleaning event\, running from&nbsp\;August 25th - 30th!&nbsp\;This is our third event this year dedicated to helping your pets achieve optimal oral health.</div>\n\n<div>Anesthesia-Free Dental Cleanings offer a gentle yet effective approach to removing plaque and tartar buildup without the risks or recovery associated with sedation.</div>\n\n<div>Here&#39\;s what your pet will receive during the cleaning:</div>\n\n<ul>\n	<li>Thorough plaque and tartar removal:&nbsp\;Our experienced pet care professionals will meticulously remove plaque and tartar both above and below the gumline to combat the onset of dental disease. This is vital for preventing long-term illnesses linked to tartar accumulation\, like heart\, kidney\, and liver disease.</li>\n	<li>Gum massage and Bacterial Mouth Spray:&nbsp\;These components soothe the gums and help combat bacteria in the mouth for fresher breath and healthier oral flora.</li>\n	<li>Before and after pictures:&nbsp\;Witness the remarkable transformation of your pet&#39\;s smile with clear visual evidence of the cleaning&#39\;s effectiveness.</li>\n</ul>\n\n<div>Why choose our Anesthesia-Free Dental Cleanings?</div>\n\n<ul>\n	<li>Reduced Risk:&nbsp\;Avoids the potential complications and prolonged recovery associated with general anesthesia.</li>\n	<li>Comfort &amp\; Stress-Free Experience:&nbsp\;Allows pets who are not suitable for anesthesia or are prone to anxiety to receive necessary dental care.</li>\n	<li>Early Detection and Prevention:&nbsp\;Regular cleanings help catch dental issues early\, preventing their progression to more serious and painful conditions.</li>\n	<li>Supports Overall Health:&nbsp\;By reducing harmful bacteria in the mouth\, you minimize the risk of infections spreading to other vital organs\, impacting your pet&#39\;s long-term health.</li>\n</ul>\n\n<div>See the amazing results for yourself!</div>\n\n<div>Before and after results achieved by the contracted pet care professional are available.</div>\n\n<div>Spaces are limited!&nbsp\;Book your pet&#39\;s appointment today for a healthier\, happier life!</div>\n\n<div>&nbsp\;</div>\n\n<div>Important notes to consider:</div>\n\n<ul>\n	<li>This procedure is most effective for pets with mild to moderate tartar and plaque accumulation.</li>\n	<li>Pets with severe periodontal disease or extensive dental issues may still require anesthesia for thorough treatment.</li>\n</ul>\n</div>\n</div>\n</div>\n</div>\n
LOCATION:Hollywood Houndz 4243 West Lake Mary Boulevard Lake Mary\, Florida 32746
UID:e.2138.37842
SEQUENCE:3
DTSTAMP:20260423T085309Z
URL:https://business.seminolebusiness.org/events/details/happy-tails-bright-smiles-sedation-free-dental-cleaning-for-your-furry-family-member-08-30-2025-37842
END:VEVENT

END:VCALENDAR
