BEGIN:VCALENDAR
VERSION:2.0
PRODID:-//ChamberMaster//Event Calendar 2.0//EN
METHOD:PUBLISH
X-PUBLISHED-TTL:P3D
REFRESH-INTERVAL:P3D
CALSCALE:GREGORIAN
BEGIN:VEVENT
DTSTART;VALUE=DATE:20181120
DTEND;VALUE=DATE:20181209
TRANSP:TRANSPARENT
X-MICROSOFT-CDO-ALLDAYEVENT:TRUE
SUMMARY:Happy Thanksgiving! And Toys For Tots
DESCRIPTION:Happy Thanksgiving Everyone! Christmas is right around the corner... Time to give to the kids! We are setting up a Toys For Tots drop box here at our facility. On December 8th the toys will be brought to Pet Supplies for their annual "Birthday Pawty" where there will be games and giveaways! All are welcome :)
X-ALT-DESC;FMTTYPE=text/html:Happy Thanksgiving Everyone! Christmas is right around the corner... Time to give to the kids! We are setting up a Toys For Tots drop box here at our facility. On December 8th the toys will be brought to Pet Supplies for their annual &quot\;Birthday Pawty&quot\; where there will be games and giveaways! All are welcome :)&nbsp\;
LOCATION:Pet Rescue By Judy 401 South Laurel Avenue Sanford\, FL 32771
UID:e.2138.14822
SEQUENCE:3
DTSTAMP:20260423T233008Z
URL:https://business.seminolebusiness.org/events/details/happy-thanksgiving-and-toys-for-tots-14822
END:VEVENT

END:VCALENDAR
