BEGIN:VCALENDAR
VERSION:2.0
PRODID:-//ChamberMaster//Event Calendar 2.0//EN
METHOD:PUBLISH
X-PUBLISHED-TTL:P3D
REFRESH-INTERVAL:P3D
CALSCALE:GREGORIAN
BEGIN:VEVENT
DTSTART:20190726T230000Z
DTEND:20190727T010000Z
X-MICROSOFT-CDO-ALLDAYEVENT:FALSE
SUMMARY:Harry Potter Trivia Night
DESCRIPTION:Join us for a magical night of Harry Potter Trivia in celebration of the boy who lived's birthday! We will of course have butterbeer and prizes to celebrate!
X-ALT-DESC;FMTTYPE=text/html:<span style="color:rgb(29\, 33\, 41)\; font-family:system-ui\,-apple-system\,system-ui\,.sfnstext-regular\,sans-serif\; font-size:14px">Join us for a magical night of Harry Potter Trivia in celebration of the boy who lived&#39\;s birthday! We will of course have butterbeer and prizes to celebrate!</span>
LOCATION:Boston Coffeehouse Altamonte Springs 851 S SR 434 Altamonte Springs Fl 32714
UID:e.2138.16237
SEQUENCE:3
DTSTAMP:20260422T063153Z
URL:https://business.seminolebusiness.org/events/details/harry-potter-trivia-night-16237
END:VEVENT

END:VCALENDAR
