BEGIN:VCALENDAR
VERSION:2.0
PRODID:-//ChamberMaster//Event Calendar 2.0//EN
METHOD:PUBLISH
X-PUBLISHED-TTL:P3D
REFRESH-INTERVAL:P3D
CALSCALE:GREGORIAN
BEGIN:VEVENT
DTSTART:20161014T113000Z
DTEND:20161014T130000Z
X-MICROSOFT-CDO-ALLDAYEVENT:FALSE
SUMMARY:Harvest of Hope Annual Breakfast Fundraiser for Christian HELP
DESCRIPTION:We would love to invite you to Christian HELP's\n\n Annual Breakfast Fundraiser on\n\nFriday\, October 14\, 2016 at 7:30 AM. \n \n\nChristian HELP has been changing lives for 24 years\, but THERE'S MORE need. Come and celebrate with us the work that has been done\, the lives that have been changed and what MORE is to come in the future. In just under 2 hours and over breakfast\, this program will share inspiring testimonies and valuable information by Christian HELP supporters\, volunteers and staff. \n\n \n\nWe hope you'll attend. We are asking people just like you to come and give to help provide employment resources\, food\, and hope to thousands of families in the next year so that we can share MORE with them.\n\n \n\nAnd THERE'S MORE good news   a donor has made it possible to match every gift given for Harvest of Hope up to $150\,000. This is an amazing opportunity to double your impact and the number of lives changed. Don't DELAY and MISS OUT on THERE'S MORE!  For More information\, please contact Tracie at Tracies@christianhelp.org\n\n \n\nIf you aren't able to come but want to contribute to this great organization\, you can donate at this link and make sure you select Harvest of Hope 2016. https://app.etapestry.com/onlineforms/ChristianHelpFoundation/donate.html\n\n \n\nBreakfast is Sponsored by: The Harper Family Charitable Foundation
X-ALT-DESC;FMTTYPE=text/html:<div style="text-align: center\;"><span style="font-family:verdana\,sans-serif"><span style="font-size:12.0pt">We would love to invite you to&nbsp\;Christian HELP&#39\;s</span></span><br />\n<span style="font-family:verdana\,sans-serif"><span style="font-size:12.0pt">&nbsp\;Annual Breakfast Fundraiser&nbsp\;on<br />\n<strong>Friday\, October 14\, 2016 at 7:30 AM</strong>.&nbsp\;</span></span></div>\n&nbsp\;\n\n<div style="text-align: center\;"><span style="font-family:verdana\,sans-serif">Christian HELP has been changing lives for 24 years\, but <strong>THERE&rsquo\;S MORE</strong> need. Come and celebrate with us the work that has been done\, the lives that have been changed and what <strong>MORE</strong> is to come in the future. In just under 2 hours and over breakfast\, this program will share inspiring testimonies and valuable information by Christian HELP supporters\, volunteers and staff. </span><br />\n&nbsp\;<br />\n<span style="font-family:verdana\,sans-serif">We hope you&rsquo\;ll attend. We are asking people just like you to come and give to help provide employment resources\, food\, and hope to thousands of families in the next year so that we can share <strong>MORE</strong> with them.</span><br />\n&nbsp\;<br />\n<span style="font-family:verdana\,sans-serif">And <strong>THERE&rsquo\;S MORE</strong> good news &ndash\; a donor has made it possible to <strong>match every gift</strong> given for Harvest of Hope up to <strong>$150\,000</strong>. This is an amazing opportunity to double your impact and the number of lives changed. Don&#39\;t DELAY and MISS OUT on <strong>THERE&#39\;S MORE</strong>!&nbsp\; For More information\, please contact Tracie at <a href="mailto:Tracies@christianhelp.org?subject=Tell%20me%20more%20about%20Harvest%20of%20Hope">Tracies@christianhelp.org</a></span><br />\n&nbsp\;<br />\n<span style="font-family:verdana\,sans-serif">If you aren&rsquo\;t able to come but want to contribute to this great organization\, you can donate at this link and make sure you select Harvest of Hope 2016.<a href="http://https://app.etapestry.com/onlineforms/ChristianHelpFoundation/donate.html"> </a><span style="color:#2F5597"><a href="http://https://app.etapestry.com/onlineforms/ChristianHelpFoundation/donate.html"><span style="color:#2F5597">https://app.etapestry.com/onlineforms/ChristianHelpFoundation/donate.html</span></a></span></span><br />\n&nbsp\;</div>\n\n<div style="text-align: center\;">Breakfast is Sponsored by: The Harper Family Charitable Foundation</div>\n
LOCATION:The Westin Lake Mary 2974 International Parkway Lake Mary\, FL 32746
UID:e.2138.5720
SEQUENCE:3
DTSTAMP:20260425T164905Z
URL:https://business.seminolebusiness.org/events/details/harvest-of-hope-annual-breakfast-fundraiser-for-christian-help-5720
END:VEVENT

END:VCALENDAR
