BEGIN:VCALENDAR
VERSION:2.0
PRODID:-//ChamberMaster//Event Calendar 2.0//EN
METHOD:PUBLISH
X-PUBLISHED-TTL:P3D
REFRESH-INTERVAL:P3D
CALSCALE:GREGORIAN
BEGIN:VEVENT
DTSTART:20250819T213000Z
DTEND:20250820T000000Z
X-MICROSOFT-CDO-ALLDAYEVENT:FALSE
SUMMARY:Headshot Happy Hour - Sponsored by Karen K Photo
DESCRIPTION:Join NAWBO Orlando and Karen K Photo at the National Entrepreneur Center for a relaxed and empowering evening of networking and fresh new headshots! Whether you're updating your LinkedIn profile or refreshing your business website\, you'll receive a professional headshot by Karen K Photo (a $250 value).\n\nEnjoy light bites and connect with fellow women entrepreneurs in our community. \n\n? You won't want to miss this opportunity to mix\, mingle\, and put your best face forward!
X-ALT-DESC;FMTTYPE=text/html:<p>Join NAWBO Orlando and Karen K Photo at the National Entrepreneur Center for a relaxed and empowering evening of networking and fresh new headshots! Whether you&#39\;re updating your LinkedIn profile or refreshing your business website\, you&rsquo\;ll receive a <strong>professional headshot by Karen K Photo </strong>(a $250 value).</p>\n\n<p>Enjoy light bites and connect with fellow women entrepreneurs in our community.&nbsp\;</p>\n\n<p>? You won&rsquo\;t want to miss this opportunity to mix\, mingle\, and put your best face forward!</p>\n
LOCATION:National Entrepreneur Center 3201 East Colonial Drive\, Suite A20 Orlando\, FL 32803
UID:e.2138.37701
SEQUENCE:3
DTSTAMP:20260423T085223Z
URL:https://business.seminolebusiness.org/events/details/headshot-happy-hour-sponsored-by-karen-k-photo-37701
END:VEVENT

END:VCALENDAR
