BEGIN:VCALENDAR
VERSION:2.0
PRODID:-//ChamberMaster//Event Calendar 2.0//EN
METHOD:PUBLISH
X-PUBLISHED-TTL:P3D
REFRESH-INTERVAL:P3D
CALSCALE:GREGORIAN
BEGIN:VEVENT
DTSTART:20250823T140000Z
DTEND:20250823T170000Z
X-MICROSOFT-CDO-ALLDAYEVENT:FALSE
SUMMARY:Healthy Families Day at the J. Douglas Williams YMCA – A Free Community Event!
DESCRIPTION:Healthy Families Day at the J. Douglas Williams YMCA   A Free Community Event!\n\nJoin the J. Douglas Williams YMCA in Lake Mary for Healthy Families Day\, a free community event designed to bring families together for a day of fun\, wellness\, and community connection!\n\n Date: Saturday\, August 23\, 2025\n\n  Time: 10:00 AM   1:00 PM\n\n  Location: J. Douglas Williams YMCA\, Lake Mary\n\nCome out and enjoy a variety of family-friendly activities\, games\, and entertainment! The day will feature local area vendors\, community resources\, and exciting giveaways.\n\nSpecial One-Day Offers!\n\nTake advantage of exclusive event-day specials\, including waived sign-up fees for new memberships. \n\nPLUS: Choose one of the following:\n\n\n	\n	A $25 program voucher\, great for fall youth sports or personal training\n	\n	\n	Offers exclude aquatics and are not valid on commitment (subscription) training packages. All other packages apply!\n	\n\n\n It's the perfect time to register for  Fall Youth Sports\, the Swim Team\, and Swim Lessons and our Teen Program. Offers are valid in person during the Healthy Family Day weekend.\n\nFeaturing: New Worlds Reading Initiative\n\nWe're proud to host the New Worlds Reading Initiative\, a statewide program committed to improving literacy among Florida students. Families will learn how their children can earn up to 63 books by 5th grade\, and participate in fun reading activities designed to build strong literacy habits at home. Lunch will be provided during the New Worlds session\, but pre-registration is required to attend that portion of the event.\n\n?? Note: Registration is only required for the New Worlds Reading Initiative portion of the day. All other Healthy Families Day activities are free and open to the public no sign-up needed!\n\nWhy Attend?\n\n\n	\n	Free family fun\n\n	 \n	\n	\n	Local vendors and games\n\n	 \n	\n	\n	Special YMCA membership discounts\n\n	 \n	\n	\n	Youth programs sign-up opportunities\n\n	 \n	\n	\n	Literacy resources through New Worlds Reading\n\n	 \n	\n	\n	Lunch is included with New Worlds registration\n\n	 \n	\n\n\nDon't miss this opportunity to connect with your community\, have fun\, and support your family's health and wellness!\n\nFor more information or to register for the New Worlds Reading portion\, visit  https://www.newworldsreading.com/en/\n\nWe can't wait to see you there!!!
X-ALT-DESC;FMTTYPE=text/html:<h3><strong>Healthy Families Day at the J. Douglas Williams YMCA &ndash\; A Free Community Event!</strong></h3>\n\n<p><span style="background-color:transparent\; color:rgb(0\, 0\, 0)\; font-family:arial\,sans-serif\; font-size:11pt">Join the</span><strong> J. Douglas Williams YMCA</strong><span style="background-color:transparent\; color:rgb(0\, 0\, 0)\; font-family:arial\,sans-serif\; font-size:11pt"> in Lake Mary for </span><strong>Healthy Families Day</strong><span style="background-color:transparent\; color:rgb(0\, 0\, 0)\; font-family:arial\,sans-serif\; font-size:11pt">\, a free community event designed to bring families together for a day of fun\, wellness\, and community connection!</span></p>\n\n<p><span style="background-color:transparent\; color:rgb(0\, 0\, 0)\; font-family:arial\,sans-serif\; font-size:11pt">&nbsp\;</span><strong>Date:</strong><span style="background-color:transparent\; color:rgb(0\, 0\, 0)\; font-family:arial\,sans-serif\; font-size:11pt"> Saturday\, August 23\, 2025</span><br />\n<span style="background-color:transparent\; color:rgb(0\, 0\, 0)\; font-family:arial\,sans-serif\; font-size:11pt">&nbsp\; </span><strong>Time:</strong><span style="background-color:transparent\; color:rgb(0\, 0\, 0)\; font-family:arial\,sans-serif\; font-size:11pt"> 10:00 AM &ndash\; 1:00 PM</span><br />\n<span style="background-color:transparent\; color:rgb(0\, 0\, 0)\; font-family:arial\,sans-serif\; font-size:11pt">&nbsp\; </span><strong>Location:</strong><span style="background-color:transparent\; color:rgb(0\, 0\, 0)\; font-family:arial\,sans-serif\; font-size:11pt"> J. Douglas Williams YMCA\, Lake Mary</span></p>\n\n<p><span style="background-color:transparent\; color:rgb(0\, 0\, 0)\; font-family:arial\,sans-serif\; font-size:11pt">Come out and enjoy a variety of family-friendly activities\, games\, and entertainment! The day will feature local area vendors\, community resources\, and </span><strong>exciting giveaways</strong><span style="background-color:transparent\; color:rgb(0\, 0\, 0)\; font-family:arial\,sans-serif\; font-size:11pt">.</span></p>\n\n<h3><strong>Special One-Day Offers!</strong></h3>\n\n<p><span style="background-color:transparent\; color:rgb(0\, 0\, 0)\; font-family:arial\,sans-serif\; font-size:11pt">Take advantage of </span><strong>exclusive event-day specials</strong><span style="background-color:transparent\; color:rgb(0\, 0\, 0)\; font-family:arial\,sans-serif\; font-size:11pt">\, including </span><strong>waived sign-up fees for new memberships.&nbsp\;</strong></p>\n\n<p><strong>P</strong><strong>LUS: Choose one of the following:</strong></p>\n\n<ul>\n	<li>\n	<p><span style="background-color:transparent\; font-size:10pt">A </span><strong>$25 program voucher</strong><span style="background-color:transparent\; font-size:10pt">\, great for fall youth sports </span><em>or</em><span style="background-color:transparent\; font-size:10pt"> personal training</span></p>\n	</li>\n	<li>\n	<p><em>Offers exclude aquatics and are not valid on commitment (subscription) training packages. All other packages apply!</em></p>\n	</li>\n</ul>\n\n<p><span style="background-color:transparent\; color:rgb(0\, 0\, 0)\; font-family:arial\,sans-serif\; font-size:11pt">&nbsp\;It&rsquo\;s the perfect time to register for&nbsp\; </span><strong>Fall</strong><span style="background-color:transparent\; color:rgb(0\, 0\, 0)\; font-family:arial\,sans-serif\; font-size:11pt"> </span><strong>Youth Sports</strong><span style="background-color:transparent\; color:rgb(0\, 0\, 0)\; font-family:arial\,sans-serif\; font-size:11pt">\, the </span><strong>Swim Team</strong><span style="background-color:transparent\; color:rgb(0\, 0\, 0)\; font-family:arial\,sans-serif\; font-size:11pt">\, and </span><strong>Swim Lessons and our Teen Program</strong><span style="background-color:transparent\; color:rgb(0\, 0\, 0)\; font-family:arial\,sans-serif\; font-size:11pt">. </span><em>Offers are valid in person during the Healthy Family Day weekend.</em></p>\n\n<h3><strong>Featuring: New Worlds Reading Initiative</strong></h3>\n\n<p><span style="background-color:transparent\; color:rgb(0\, 0\, 0)\; font-family:arial\,sans-serif\; font-size:11pt">We&rsquo\;re proud to host the </span><strong>New Worlds Reading Initiative</strong><span style="background-color:transparent\; color:rgb(0\, 0\, 0)\; font-family:arial\,sans-serif\; font-size:11pt">\, a statewide program committed to improving literacy among Florida students. Families will learn how their children can earn up to </span><strong>63 books by 5th grade</strong><span style="background-color:transparent\; color:rgb(0\, 0\, 0)\; font-family:arial\,sans-serif\; font-size:11pt">\, and participate in fun reading activities designed to build strong literacy habits at home. </span><strong>Lunch will be provided</strong><span style="background-color:transparent\; color:rgb(0\, 0\, 0)\; font-family:arial\,sans-serif\; font-size:11pt"> during the New Worlds session\, but </span><strong>pre-registration is required</strong><span style="background-color:transparent\; color:rgb(0\, 0\, 0)\; font-family:arial\,sans-serif\; font-size:11pt"> to attend that portion of the event.</span></p>\n\n<p style="margin-left:30pt\; margin-right:30pt"><span style="background-color:transparent\; color:rgb(0\, 0\, 0)\; font-family:arial\,sans-serif\; font-size:11pt">?? </span><strong>Note:</strong><span style="background-color:transparent\; color:rgb(0\, 0\, 0)\; font-family:arial\,sans-serif\; font-size:11pt"> Registration is </span><strong>only required</strong><span style="background-color:transparent\; color:rgb(0\, 0\, 0)\; font-family:arial\,sans-serif\; font-size:11pt"> for the New Worlds Reading Initiative portion of the day. All other Healthy Families Day activities are </span><strong>free and open to the public</strong><span style="background-color:transparent\; color:rgb(0\, 0\, 0)\; font-family:arial\,sans-serif\; font-size:11pt">&mdash\;no sign-up needed!</span></p>\n\n<h3><strong>Why Attend?</strong></h3>\n\n<ul>\n	<li>\n	<p><span style="background-color:transparent\; font-size:11pt">Free family fun</span><br />\n	&nbsp\;</p>\n	</li>\n	<li>\n	<p><span style="background-color:transparent\; font-size:11pt">Local vendors and games</span><br />\n	&nbsp\;</p>\n	</li>\n	<li>\n	<p><span style="background-color:transparent\; font-size:11pt">Special YMCA membership discounts</span><br />\n	&nbsp\;</p>\n	</li>\n	<li>\n	<p><span style="background-color:transparent\; font-size:11pt">Youth programs sign-up opportunities</span><br />\n	&nbsp\;</p>\n	</li>\n	<li>\n	<p><span style="background-color:transparent\; font-size:11pt">Literacy resources through New Worlds Reading</span><br />\n	&nbsp\;</p>\n	</li>\n	<li>\n	<p><span style="background-color:transparent\; font-size:11pt">Lunch is included with New Worlds registration</span><br />\n	&nbsp\;</p>\n	</li>\n</ul>\n\n<p><span style="background-color:transparent\; color:rgb(0\, 0\, 0)\; font-family:arial\,sans-serif\; font-size:11pt">Don&rsquo\;t miss this opportunity to connect with your community\, have fun\, and support your family&rsquo\;s health and wellness!</span></p>\n\n<p><span style="background-color:transparent\; color:rgb(0\, 0\, 0)\; font-family:arial\,sans-serif\; font-size:11pt">For more information or to register for the New Worlds Reading portion\, visit&nbsp\; </span><a href="https://www.newworldsreading.com/en/" style="text-decoration-line: none\;"><span style="background-color:transparent\; color:rgb(17\, 85\, 204)\; font-family:arial\,sans-serif\; font-size:11pt">https://www.newworldsreading.com/en/</span></a></p>\n\n<p><span style="background-color:transparent\; color:rgb(0\, 0\, 0)\; font-family:arial\,sans-serif\; font-size:11pt">We can&rsquo\;t wait to see you there!!!</span></p>\n
LOCATION:J. Douglas Williams YMCA in Lake Mary 665Longwood Lake Mary\, FL 32746
UID:e.2138.37844
SEQUENCE:3
DTSTAMP:20260423T085140Z
URL:https://business.seminolebusiness.org/events/details/healthy-families-day-at-the-j-douglas-williams-ymca-a-free-community-event-37844
END:VEVENT

END:VCALENDAR
