BEGIN:VCALENDAR
VERSION:2.0
PRODID:-//ChamberMaster//Event Calendar 2.0//EN
METHOD:PUBLISH
X-PUBLISHED-TTL:P3D
REFRESH-INTERVAL:P3D
CALSCALE:GREGORIAN
BEGIN:VEVENT
DTSTART:20170215T230000Z
DTEND:20170216T010000Z
X-MICROSOFT-CDO-ALLDAYEVENT:FALSE
SUMMARY:Healthy Family Fun Night at Weston Park Apartment
DESCRIPTION:Join Palmer Natural Health for a night of Healthy Family Fun at Weston Park Apartments in Longwood\, FL.\n\nWe'll be serving healthy\, organic food from Wild Hare Market\, giving free chair massage as well as nutrition scans. Brings your kids for arts\, crafts\, games and music.\n\nCall 407-682-8444 to RSVP. This event is free and open to the public.
X-ALT-DESC;FMTTYPE=text/html:<p>Join Palmer Natural Health for a night of Healthy Family Fun at Weston Park Apartments in Longwood\, FL.</p>\n\n<p>We&rsquo\;ll be serving healthy\, organic food from Wild Hare Market\, giving free chair massage as well as nutrition scans. Brings your kids for arts\, crafts\, games and music.</p>\n\n<p>Call 407-682-8444 to RSVP. This event is free and open to the public.</p>\n
LOCATION:Held at the Weston Park Apartments Clubhouse 100 Myrtle St Longwood\, FL 32750
UID:e.2138.6451
SEQUENCE:3
DTSTAMP:20260423T162210Z
URL:https://business.seminolebusiness.org/events/details/healthy-family-fun-night-at-weston-park-apartment-6451
END:VEVENT

END:VCALENDAR
