BEGIN:VCALENDAR
VERSION:2.0
PRODID:-//ChamberMaster//Event Calendar 2.0//EN
METHOD:PUBLISH
X-PUBLISHED-TTL:P3D
REFRESH-INTERVAL:P3D
CALSCALE:GREGORIAN
BEGIN:VEVENT
DTSTART:20170622T223000Z
DTEND:20170622T233000Z
X-MICROSOFT-CDO-ALLDAYEVENT:FALSE
SUMMARY:Healthy Happy Hour
DESCRIPTION:Join us for a Healthy Happy Hour event designed to help you achieve a healthier and happier lifestyle! \n\n\n\nSnacks provided by Catered Fit. Traci Krewson\, Health Coach will be giving you tips on how to create habits that stick. Other vendors onsite will be Holistic Beauty Center\, Tupperware by Phyllis\, and Soxy Feet. Lots of healthy giveaways at this event\, register on our Facebook page - Fitness Partners Workout Center.
X-ALT-DESC;FMTTYPE=text/html:Join us for a Healthy Happy Hour event designed to help you achieve a healthier and happier lifestyle!&nbsp\;<br />\n<br />\nSnacks provided by Catered Fit. Traci Krewson\, Health Coach will be giving you tips on how to create habits that stick. Other vendors onsite will be Holistic Beauty Center\, Tupperware by Phyllis\, and Soxy Feet. Lots of healthy giveaways at this event\, register on our Facebook page - Fitness Partners Workout Center.
LOCATION:580 Cape Cod Lane Suite 10 Altamonte Springs\, FL 32779
UID:e.2138.7586
SEQUENCE:3
DTSTAMP:20260423T223059Z
URL:https://business.seminolebusiness.org/events/details/healthy-happy-hour-7586
END:VEVENT

END:VCALENDAR
