BEGIN:VCALENDAR
VERSION:2.0
PRODID:-//ChamberMaster//Event Calendar 2.0//EN
METHOD:PUBLISH
X-PUBLISHED-TTL:P3D
REFRESH-INTERVAL:P3D
CALSCALE:GREGORIAN
BEGIN:VEVENT
DTSTART:20170127T130000Z
DTEND:20170127T210000Z
X-MICROSOFT-CDO-ALLDAYEVENT:FALSE
SUMMARY:Healthy Legs Screening at Vascular Vein Centers- Lake Mary
DESCRIPTION:Got Achy\, Heavy Legs at the end of the day?\n\nHave questions about spider vein treatments?\n\nDid you know some Vericose Veins are a Medical Issue?\n\nVisit is for a FREE Healthy Legs Screening
X-ALT-DESC;FMTTYPE=text/html:<div style="text-align: center\;"><span style="font-size:22px\;"><span style="color:rgb(211\, 211\, 211)"><span style="background-color:rgb(0\, 0\, 128)">Got Achy\, Heavy Legs at the end of the day?</span></span></span><br />\n<span style="font-size:14px"><span style="color:rgb(0\, 0\, 205)">Have questions about spider vein treatments?<br />\nDid you know some Vericose Veins <strong>are a Medical Issue</strong>?</span></span></div>\n\n<div style="text-align: center\;"><span style="font-size:20px"><strong>Visit is for a FREE Healthy Legs Screening</strong></span></div>\n
LOCATION:Vascular Vein Centers- Lake Mary MedPlex at Lake Mary (near McDonald's) 4106 W. Lake Mary Blvd. Ste 325 Lake Mary\, FL 32746
UID:e.2138.6419
SEQUENCE:3
DTSTAMP:20260423T144730Z
URL:https://business.seminolebusiness.org/events/details/healthy-legs-screening-at-vascular-vein-centers-lake-mary-6419
END:VEVENT

END:VCALENDAR
