BEGIN:VCALENDAR
VERSION:2.0
PRODID:-//ChamberMaster//Event Calendar 2.0//EN
METHOD:PUBLISH
X-PUBLISHED-TTL:P3D
REFRESH-INTERVAL:P3D
CALSCALE:GREGORIAN
BEGIN:VEVENT
DTSTART:20140530T130000Z
DTEND:20140530T190000Z
X-MICROSOFT-CDO-ALLDAYEVENT:FALSE
SUMMARY:Healthy Legs Screening Day
DESCRIPTION:Got Heavy\, Achy Legs?\nJoin us for Healthy Legs Screening Day\nMay 30th 9am-3pm\nFREE Vein Screening & Leg Health Education\nPlease call to schedule screening (407)936-2671\nWe will be checking for: Spider Veins\, Varicose Veins\, Skin Changes and Ulcers.\nOngoing Q&A sessions\nSnacks & Prizes!\n\nHealthy Legs = Healthy Life!
X-ALT-DESC;FMTTYPE=text/html:Got Heavy\, Achy Legs?\nJoin us for Healthy Legs Screening Day\nMay 30th 9am-3pm\nFREE Vein Screening & Leg Health Education\nPlease call to schedule screening (407)936-2671\nWe will be checking for: Spider Veins\, Varicose Veins\, Skin Changes and Ulcers.\nOngoing Q&A sessions\nSnacks & Prizes!\n\nHealthy Legs = Healthy Life!\n
LOCATION:Vascular Vein Centers- Lake Mary Lake Mary MedPlex 4160 Lake Mary Blvd. Ste 325 Lake Mary\, FL 32746 Between I4 & Reinhart Rd.
UID:e.2138.1574
SEQUENCE:3
DTSTAMP:20260420T112121Z
URL:https://business.seminolebusiness.org/events/details/healthy-legs-screening-day-05-30-2014-1574
END:VEVENT

END:VCALENDAR
