BEGIN:VCALENDAR
VERSION:2.0
PRODID:-//ChamberMaster//Event Calendar 2.0//EN
METHOD:PUBLISH
X-PUBLISHED-TTL:P3D
REFRESH-INTERVAL:P3D
CALSCALE:GREGORIAN
BEGIN:VEVENT
DTSTART:20160421T120000Z
DTEND:20160421T130000Z
X-MICROSOFT-CDO-ALLDAYEVENT:FALSE
SUMMARY:Healthy Legs Screening Day- VVC Lake Mary
DESCRIPTION:Vein Disease is a Medical Condition\n\nSigns & symptoms:\n\nVaricose Veins\, leg pain\, cramping\, swollen ankles\, heavy/achy legs\n\nJanuary Leg Health Screening\n\nLeg Health Check with Q&A\n\n	Learn how we treat vein disease\n	In-office/outpatient procedures\n	New styles of compression socks and stockings available\n\nRegister online at www.LakeMaryVVC.com or call (407) 472-7664.\n\n\n\nAll offices: Lake Mary\, Orlando\, Waterford Lakes\, Kissimmee\, Haines City/Davenport\, The Village
X-ALT-DESC;FMTTYPE=text/html:Vein Disease is a Medical Condition<br />\nSigns &amp\; symptoms:<br />\nVaricose Veins\, leg pain\, cramping\, swollen ankles\, heavy/achy legs<br />\nJanuary Leg Health Screening<br />\nLeg Health Check with Q&amp\;A\n<ul>\n	<li>Learn how we treat vein disease</li>\n	<li>In-office/outpatient procedures</li>\n	<li>New styles of compression socks and stockings available</li>\n</ul>\nRegister online at <a href="http://www.ReliefForVeins.com">www.LakeMaryVVC.com </a>or call (407) 472-7664.<br />\n<br />\nAll offices: Lake Mary\, Orlando\, Waterford Lakes\, Kissimmee\, Haines City/Davenport\, The Village
LOCATION:Vascular Vein Centers- Lake Mary MedPlex at Lake Mary 4160 W. Lake Mary Blvd. Ste 325 Lake Mary\, FL 32746 (Next to Mc Donald's near I4)
UID:e.2138.4377
SEQUENCE:3
DTSTAMP:20260426T013854Z
URL:https://business.seminolebusiness.org/events/details/healthy-legs-screening-day-vvc-lake-mary-04-21-2016-4377
END:VEVENT

END:VCALENDAR
