BEGIN:VCALENDAR
VERSION:2.0
PRODID:-//ChamberMaster//Event Calendar 2.0//EN
METHOD:PUBLISH
X-PUBLISHED-TTL:P3D
REFRESH-INTERVAL:P3D
CALSCALE:GREGORIAN
BEGIN:VEVENT
DTSTART:20180613T183000Z
DTEND:20180613T193000Z
X-MICROSOFT-CDO-ALLDAYEVENT:FALSE
SUMMARY:Healthy Living for Your Brain & Body
DESCRIPTION:Join us for a complimentary presentation by Dama Melendez\, Associate Director of Programs at the Alzheimer's Association and learn about research in the areas of diet and nutrition\, exercise\, cognitive activity and social engagement.\n\n\n\nLite refreshments will be provided.\n\n\n\nLocation: Atria Park of Lake Forest\n\n                5433 W. SR 46\n\n                Sanford\, FL  32771\n\n\n\nRSVP to Concierge at 407-322-2207
X-ALT-DESC;FMTTYPE=text/html:Join us for a complimentary&nbsp\;presentation by Dama Melendez\, Associate Director of Programs at the Alzheimer&#39\;s Association&nbsp\;and learn about research in the areas of diet and nutrition\, exercise\, cognitive activity and social engagement.<br />\n<br />\nLite refreshments will be provided.<br />\n<br />\nLocation: Atria Park of Lake Forest<br />\n&nbsp\;&nbsp\;&nbsp\;&nbsp\;&nbsp\;&nbsp\;&nbsp\;&nbsp\;&nbsp\;&nbsp\;&nbsp\;&nbsp\;&nbsp\;&nbsp\;&nbsp\;&nbsp\;5433 W. SR 46<br />\n&nbsp\;&nbsp\;&nbsp\;&nbsp\;&nbsp\;&nbsp\;&nbsp\;&nbsp\;&nbsp\;&nbsp\;&nbsp\;&nbsp\;&nbsp\;&nbsp\;&nbsp\;&nbsp\;Sanford\, FL&nbsp\; 32771<br />\n<br />\nRSVP to Concierge at 407-322-2207
LOCATION:Atria Park of Lake Forest 5433 W. SR. 46 Sanford\, FL 32771
UID:e.2138.9443
SEQUENCE:3
DTSTAMP:20260424T083712Z
URL:https://business.seminolebusiness.org/events/details/healthy-living-for-your-brain-body-9443
END:VEVENT

END:VCALENDAR
