BEGIN:VCALENDAR
VERSION:2.0
PRODID:-//ChamberMaster//Event Calendar 2.0//EN
METHOD:PUBLISH
X-PUBLISHED-TTL:P3D
REFRESH-INTERVAL:P3D
CALSCALE:GREGORIAN
BEGIN:VEVENT
DTSTART:20160818T220000Z
DTEND:20160818T233000Z
X-MICROSOFT-CDO-ALLDAYEVENT:FALSE
SUMMARY:Heart to Heart Lecture\, Dr. Rajesh Shah
DESCRIPTION:Are you living a heart healthy lifestyle?  Learn about strategies for preventing and managing heart disease.  Free Health Screenings provided by Tuscawilla Family Practice.  RSVP required.\n\nWe're providing a variety of free screenings and lectures designed to make Oviedo 1 Healthy Community!  In 1 convenient area\, the Florida Hospital Network of Care offers primary care and specialty physicians\, urgent care\, imaging services and physical therapy\, providing an array of prevention\, diagnosis and treatments for the body\, mind and spirit.\n\nFor full details and to reserve your spot\, visit FHEventsOviedo.com or call 407.200.2900.
X-ALT-DESC;FMTTYPE=text/html:Are you living a heart healthy lifestyle? &nbsp\;Learn about strategies for preventing and managing heart disease. &nbsp\;Free Health Screenings provided by Tuscawilla Family Practice. &nbsp\;RSVP required.<br />\nWe&#39\;re providing a variety of free screenings and lectures designed to make Oviedo 1 Healthy Community! &nbsp\;In 1 convenient area\, the Florida Hospital&nbsp\;Network of Care offers primary care and&nbsp\;specialty physicians\, urgent care\, imaging&nbsp\;services and physical therapy\, providing&nbsp\;an array of prevention\, diagnosis and&nbsp\;treatments for the body\, mind and spirit.<br />\nFor full details and to reserve your spot\, visit FHEventsOviedo.com or call 407.200.2900.
LOCATION:Cultural Center at Center Lake Park
UID:e.2138.4798
SEQUENCE:3
DTSTAMP:20260425T193444Z
URL:https://business.seminolebusiness.org/events/details/heart-to-heart-lecture-dr-rajesh-shah-08-18-2016-4798
END:VEVENT

END:VCALENDAR
