BEGIN:VCALENDAR
VERSION:2.0
PRODID:-//ChamberMaster//Event Calendar 2.0//EN
METHOD:PUBLISH
X-PUBLISHED-TTL:P3D
REFRESH-INTERVAL:P3D
CALSCALE:GREGORIAN
BEGIN:VEVENT
DTSTART;VALUE=DATE:20180201
DTEND;VALUE=DATE:20180202
TRANSP:TRANSPARENT
X-MICROSOFT-CDO-ALLDAYEVENT:TRUE
SUMMARY:Heart to Heart Trunk Show
DESCRIPTION:Elizabeth Scovil will be sharing her personal experience living with heart disease and how she turned her situation into a positive opportunity fo women in our community.  She will be bringing her beautifully designed handbags for purchase as well as giving a short talk on heart health at 6:00 pm.\n\n\n\nEnjoy give aways\, hors devours\, wine and shopping with a percentage of sales going directly to Florida Hospital Cardiovascular Foundation.
X-ALT-DESC;FMTTYPE=text/html:Elizabeth Scovil will be sharing her personal experience living with heart disease and how she turned her situation into a positive opportunity fo women in our community.&nbsp\; She will be bringing her beautifully designed handbags for purchase as well as giving a short talk on heart health at 6:00 pm.<br />\n<br />\nEnjoy give aways\, hors devours\, wine and shopping with a percentage of sales going directly to Florida Hospital Cardiovascular Foundation.
LOCATION:Rich Hippie 1094 Montgomery Road Altamonte Springs
UID:e.2138.8744
SEQUENCE:3
DTSTAMP:20260424T113130Z
URL:https://business.seminolebusiness.org/events/details/heart-to-heart-trunk-show-8744
END:VEVENT

END:VCALENDAR
