BEGIN:VCALENDAR
VERSION:2.0
PRODID:-//ChamberMaster//Event Calendar 2.0//EN
METHOD:PUBLISH
X-PUBLISHED-TTL:P3D
REFRESH-INTERVAL:P3D
CALSCALE:GREGORIAN
BEGIN:VEVENT
DTSTART:20161116T160000Z
DTEND:20161116T190000Z
X-MICROSOFT-CDO-ALLDAYEVENT:FALSE
SUMMARY:Heathrow Country Club Annual Holiday Expo 2017
DESCRIPTION:Join and support local vendors!\n\n\n\nWith only days until Christmas\, stop by and get some unique and handmade gifts for your loved ones and friends!\n\n\n\nYou can buy and order onsite with a wide selection of all types of vendors that include:  clothes\, scarves\, jewelry\, pet items\, scentsy\, spa\, hair accessories\, music\, fitness and much more!!!\n\n\n\nTake the office out for lunch and shopping or send your wishlist with someone else.
X-ALT-DESC;FMTTYPE=text/html:<div style="text-align: center\;"><br />\n<br />\n<span style="font-size:16px\;"><span style="font-family:tahoma\;"><strong>Join and support local vendors!</strong><br />\n<br />\nWith only days until Christmas\, stop by and get some unique and handmade gifts for your loved ones and friends!<br />\n<br />\nYou can buy and order onsite with a wide selection of all types of vendors that include: &nbsp\;clothes\, scarves\, jewelry\, pet items\, scentsy\, spa\, hair accessories\, music\, fitness and much more!!!<br />\n<br />\nTake the office out for lunch and shopping or send your wishlist with someone else.&nbsp\;</span></span></div>\n
LOCATION:Heathrow Country Club 1200 Bridgewater Drive Heathrow\, FL 32746
UID:e.2138.5745
SEQUENCE:3
DTSTAMP:20260425T150714Z
URL:https://business.seminolebusiness.org/events/details/heathrow-country-club-annual-holiday-expo-2017-5745
END:VEVENT

END:VCALENDAR
