BEGIN:VCALENDAR
VERSION:2.0
PRODID:-//ChamberMaster//Event Calendar 2.0//EN
METHOD:PUBLISH
X-PUBLISHED-TTL:P3D
REFRESH-INTERVAL:P3D
CALSCALE:GREGORIAN
BEGIN:VEVENT
DTSTART:20160310T223000Z
DTEND:20160311T003000Z
X-MICROSOFT-CDO-ALLDAYEVENT:FALSE
SUMMARY:HGI Lake Mary Client Appreciation Cocktail Reception
DESCRIPTION:You're invited to attend the Hilton Garden Inn Orlando North/Lake Mary's Client Appreciation Cocktail Reception and Open House! There will be complimentary hors d'oeuvres\, beer\, wine\, and cocktails served as well as great networking opportunities with members of the local business community. RSVP to Michele Pavlik by Monday\, March 7th. We hope to see you there!
X-ALT-DESC;FMTTYPE=text/html:You&#39\;re invited to attend the Hilton Garden Inn Orlando North/Lake Mary&#39\;s Client Appreciation Cocktail Reception and Open House! There will be complimentary hors d&#39\;oeuvres\, beer\, wine\, and cocktails served as well as great networking opportunities with members of the local business community. RSVP to Michele Pavlik by Monday\, March 7th. We hope to see you there!
LOCATION:Hilton Garden Inn Orlando North/Lake Mary 705 Currency Circle\, Lake Mary\, FL 32746
UID:e.2138.4367
SEQUENCE:3
DTSTAMP:20260426T031220Z
URL:https://business.seminolebusiness.org/events/details/hgi-lake-mary-client-appreciation-cocktail-reception-03-10-2016-4367
END:VEVENT

END:VCALENDAR
