BEGIN:VCALENDAR
VERSION:2.0
PRODID:-//ChamberMaster//Event Calendar 2.0//EN
METHOD:PUBLISH
X-PUBLISHED-TTL:P3D
REFRESH-INTERVAL:P3D
CALSCALE:GREGORIAN
BEGIN:VEVENT
DTSTART:20170621T213000Z
DTEND:20170621T230000Z
X-MICROSOFT-CDO-ALLDAYEVENT:FALSE
SUMMARY:HGI Lake Mary Client Appreciation Event
DESCRIPTION:Kick off the summer at Hilton Garden Inn Orlando North/Lake Mary during an exclusive event to thank you for your continued business. Join us on our outdoor Garden Patio for an evening filled with complimentary hors d'oeuvres\, beer\, wine\, and soft drinks. This event is complimentary for any who would like to attend. RSVP to Michele Pavlik via phone or email. We hope to see you there!
X-ALT-DESC;FMTTYPE=text/html:Kick off the summer at Hilton Garden Inn Orlando North/Lake Mary during an exclusive event to thank you for your continued business. Join us on our outdoor Garden Patio for an evening filled with complimentary hors d&#39\;oeuvres\, beer\, wine\, and soft drinks. This event is complimentary for any who would like to attend. RSVP to Michele Pavlik via phone or email. We hope to see you there!
LOCATION:Hilton Garden Inn Orlando North/Lake Mary 705 Currency Circle Lake Mary\, FL 32746
UID:e.2138.7576
SEQUENCE:3
DTSTAMP:20260423T223223Z
URL:https://business.seminolebusiness.org/events/details/hgi-lake-mary-client-appreciation-event-7576
END:VEVENT

END:VCALENDAR
