BEGIN:VCALENDAR
VERSION:2.0
PRODID:-//ChamberMaster//Event Calendar 2.0//EN
METHOD:PUBLISH
X-PUBLISHED-TTL:P3D
REFRESH-INTERVAL:P3D
CALSCALE:GREGORIAN
BEGIN:VEVENT
DTSTART:20161006T213000Z
DTEND:20161006T233000Z
X-MICROSOFT-CDO-ALLDAYEVENT:FALSE
SUMMARY:HGI Lake Mary Holiday Cocktail Reception
DESCRIPTION:THIS EVENT IS CANCELED DUE TO HURRICANE MATTHEW.\n\n\n\n\n\nPlease join us for an evening full of holiday cheer.\n\nSample our festive appetizers and cocktails\n\nto find the perfect pair for your holiday affair.\n\nMeet our professional Sales and Catering Team\n\nand allow them to help you plan\n\nthe holiday party of the year!
X-ALT-DESC;FMTTYPE=text/html:<span style="color:#B22222\;"><strong>THIS EVENT IS CANCELED DUE TO HURRICANE MATTHEW.</strong></span><br />\n<br />\n<br />\nPlease join us for an evening full of holiday cheer.<br />\nSample our festive appetizers and cocktails<br />\nto find the perfect pair for your holiday affair.<br />\nMeet our professional Sales and Catering Team<br />\nand allow them to help you plan<br />\nthe holiday party of the year!
LOCATION:Hilton Garden Inn Orlando North/Lake Mary 705 Currency Circle Lake Mary\, Florida 32746
UID:e.2138.4893
SEQUENCE:3
DTSTAMP:20260425T164739Z
URL:https://business.seminolebusiness.org/events/details/hgi-lake-mary-holiday-cocktail-reception-4893
END:VEVENT

END:VCALENDAR
