BEGIN:VCALENDAR
VERSION:2.0
PRODID:-//ChamberMaster//Event Calendar 2.0//EN
METHOD:PUBLISH
X-PUBLISHED-TTL:P3D
REFRESH-INTERVAL:P3D
CALSCALE:GREGORIAN
BEGIN:VEVENT
DTSTART:20170415T130000Z
DTEND:20170415T190000Z
X-MICROSOFT-CDO-ALLDAYEVENT:FALSE
SUMMARY:Hippity Hop Adventure at the Central Florida Zoo & Botanical Gardens
DESCRIPTION:Hop along the Adventure Trail to find clues leading to the Easter Bunny.  Win candy\, prizes and surprises at Bunny Stops along the way. This event is included in general Zoo admission\; additional fees may apply for certain activities. For more information\, call 407.323.4450 ext 100. For sponsorship and vendor opportunities\, call 407.323.4450 ext 135.
X-ALT-DESC;FMTTYPE=text/html:<span style="font-family:arial narrow\,sans-serif"><span style="font-size:11.0pt">Hop along the Adventure Trail to find clues leading to the Easter Bunny.&nbsp\; Win candy\, prizes and surprises at Bunny Stops along the way. This event is included in general Zoo admission\; additional fees may apply for certain activities. For more information\, call 407.323.4450 ext 100. For sponsorship and vendor opportunities\, call 407.323.4450 ext 135.&nbsp\;</span></span>
LOCATION:Central Florida Zoo & Botanical Gardens 3755 NW Hwy 17-92 Sanford\, FL 32771
UID:e.2138.6428
SEQUENCE:3
DTSTAMP:20260423T193906Z
URL:https://business.seminolebusiness.org/events/details/hippity-hop-adventure-at-the-central-florida-zoo-6428
END:VEVENT

END:VCALENDAR
