BEGIN:VCALENDAR
VERSION:2.0
PRODID:-//ChamberMaster//Event Calendar 2.0//EN
METHOD:PUBLISH
X-PUBLISHED-TTL:P3D
REFRESH-INTERVAL:P3D
CALSCALE:GREGORIAN
BEGIN:VEVENT
DTSTART:20161219T140000Z
DTEND:20161230T200000Z
X-MICROSOFT-CDO-ALLDAYEVENT:FALSE
SUMMARY:Holiday Break Learn to Skate Camp
DESCRIPTION:Learn to Skate over Winter Break at our two weekly camps! Camp is offered December 19-23 and December 26-30 from 9:00am-3:00pm each day for ages 6 and up. Camp includes private class instruction\, flexibility class\, on and off-ice games\, and supervised public skating time. Camp costs $245 for each week. Please provide a bag lunch for your campers!
X-ALT-DESC;FMTTYPE=text/html:Learn to Skate over Winter Break at our two weekly camps! Camp is offered December 19-23 and December 26-30 from 9:00am-3:00pm each day for ages 6 and up. Camp includes private class instruction\, flexibility class\, on and off-ice games\, and supervised public skating time. Camp costs $245 for each week. Please provide a bag lunch for your campers!
LOCATION:RDV Sportsplex Ice Den 8701 Maitland Summit Blvd. Orlando\, FL 32810
UID:e.2138.5750
SEQUENCE:3
DTSTAMP:20260425T132051Z
URL:https://business.seminolebusiness.org/events/details/holiday-break-learn-to-skate-camp-5750
END:VEVENT

END:VCALENDAR
