BEGIN:VCALENDAR
VERSION:2.0
PRODID:-//ChamberMaster//Event Calendar 2.0//EN
METHOD:PUBLISH
X-PUBLISHED-TTL:P3D
REFRESH-INTERVAL:P3D
CALSCALE:GREGORIAN
BEGIN:VEVENT
DTSTART:20250920T130000Z
DTEND:20250920T150000Z
X-MICROSOFT-CDO-ALLDAYEVENT:FALSE
SUMMARY:Hollerbach's German Frühstück! (breakfast)
DESCRIPTION:Fr hst ck (breakfast) in Hollerbach's Lodge\n\nYOU DO NOT NEED TO PICK UP PHYSICAL TICKETS FOR THIS EVENT\n\nDate: Saturday\, September 20th\, 2025\n\nTime: 9 AM-11 AM\n\nLocation: The Lodge\, 205 E 1st Street\, Sanford\, FL\n\nCost: $15 per person\n\nJoin us for a cozy German-style breakfast buffet in the comfort of the Lodge. Your ticket includes food\, soft drinks\, juice\, and fresh-brewed coffee.\n\nBuffet Menu\n\nBr tchen (fresh rolls)\n\nBrezeln (soft pretzels)\n\nBauernbrot (hearty farmer's bread)\n\nSchinkenwurst and Bologna Wurst\n\nKochschinken (cooked ham)\n\nGemischter K se & Sahne K se (assorted and creamy cheeses)\n\nObazda (Bavarian cheese spread)\n\nFrisches Obst & Gem se (seasonal fruits and vegetables)\n\nEier & assorted toppings (Zutaten)\n\nCome enjoy a relaxed Saturday morning with the flavors of a traditional German Fr hst ck.
X-ALT-DESC;FMTTYPE=text/html:<div>Fr&uuml\;hst&uuml\;ck (breakfast) in Hollerbach&#39\;s Lodge</div>\n\n<div>YOU DO NOT NEED TO PICK UP PHYSICAL TICKETS FOR THIS EVENT</div>\n\n<div>Date: Saturday\, September 20th\, 2025</div>\n\n<div>Time: 9 AM-11 AM</div>\n\n<div>Location: The Lodge\, 205 E 1st Street\, Sanford\, FL</div>\n\n<div>Cost: $15 per person</div>\n\n<div>Join us for a cozy German-style breakfast buffet in the comfort of the Lodge. Your ticket includes food\, soft drinks\, juice\, and fresh-brewed coffee.</div>\n\n<div>Buffet Menu</div>\n\n<div>Br&ouml\;tchen (fresh rolls)</div>\n\n<div>Brezeln (soft pretzels)</div>\n\n<div>Bauernbrot (hearty farmer&rsquo\;s bread)</div>\n\n<div>Schinkenwurst and Bologna Wurst</div>\n\n<div>Kochschinken (cooked ham)</div>\n\n<div>Gemischter K&auml\;se &amp\; Sahne K&auml\;se (assorted and creamy cheeses)</div>\n\n<div>Obazda (Bavarian cheese spread)</div>\n\n<div>Frisches Obst &amp\; Gem&uuml\;se (seasonal fruits and vegetables)</div>\n\n<div>Eier &amp\; assorted toppings (Zutaten)</div>\n\n<div>Come enjoy a relaxed Saturday morning with the flavors of a traditional German Fr&uuml\;hst&uuml\;ck.</div>\n
LOCATION:Hollerbach's German Restaurant 205 E. 1st Street Sanford\, FL 32771
UID:e.2138.38740
SEQUENCE:3
DTSTAMP:20260423T072145Z
URL:https://business.seminolebusiness.org/events/details/hollerbach-s-german-fr&#252;hst&#252;ck-breakfast-38740
END:VEVENT

END:VCALENDAR
