BEGIN:VCALENDAR
VERSION:2.0
PRODID:-//ChamberMaster//Event Calendar 2.0//EN
METHOD:PUBLISH
X-PUBLISHED-TTL:P3D
REFRESH-INTERVAL:P3D
CALSCALE:GREGORIAN
BEGIN:VEVENT
DTSTART:20161019T213000Z
DTEND:20161019T233000Z
X-MICROSOFT-CDO-ALLDAYEVENT:FALSE
SUMMARY:Honoring Our Veterans
DESCRIPTION:Camaraderie Foundation and Fifth Third Bank \n\nInvites you to their \n\n"Honoring Our Veterans" campaign\n\n \n\nJoin us as we launch our Annual Community Campaign with\n\n complimentary tasty small bites & beverages\, plus music and more! \n\n\n\nSpecial Guest Appearance by Johnny Damon\, former New York Yankee!!!\n\n \n\nVeterans and their families struggle every day from the psychological wounds of war\, making return to civilian and family life difficult after deployment. With the support of people throughout our community we can give them the gift of mental health through Camaraderie's counseling scholarships.   \n\n \n\nFor more information or to RSVP\, please email us at:\n\n Honoring Our Veterans or call (407) 841-0071.
X-ALT-DESC;FMTTYPE=text/html:<div style="text-align:center"><strong><span style="color:#004DB4"><span style="font-family:lucida sans unicode\,sans-serif"><span style="font-size:14.0pt">Camaraderie Foundation and Fifth Third Bank&nbsp\;</span></span></span></strong><br />\n<strong><span style="color:#004DB4"><span style="font-family:lucida sans unicode\,sans-serif"><span style="font-size:14.0pt">Invites you to their&nbsp\;<br />\n&quot\;Honoring Our Veterans&quot\; campaign</span></span></span></strong><br />\n&nbsp\;<br />\n<span style="color:#004DB4"><span style="font-family:lucida sans unicode\,sans-serif">Join us as we launch our Annual Community Campaign with</span></span><br />\n<span style="color:#004DB4"><span style="font-family:lucida sans unicode\,sans-serif">&nbsp\;complimentary tasty small bites &amp\; beverages\, plus music and more!&nbsp\;<br />\n<br />\nSpecial Guest Appearance by Johnny Damon\, former New York Yankee!!!</span></span><br />\n&nbsp\;<br />\n<span style="color:#004DB4"><span style="font-family:lucida sans unicode\,sans-serif">Veterans and their families struggle every day from the psychological wounds of war\, making return to civilian and family life difficult after deployment. With the support of people throughout our community we can give them the gift of mental health through Camaraderie&#39\;s counseling scholarships. &nbsp\;&nbsp\;</span></span><br />\n&nbsp\;<br />\n<span style="color:#004DB4"><span style="font-family:lucida sans unicode\,sans-serif">For more information or to RSVP\, please email us at:</span></span><br />\n<span style="color:#004DB4"><span style="font-family:lucida sans unicode\,sans-serif"><span style="font-size:12.0pt">&nbsp\;<a href="mailto:events@camaraderiefoundation.org" target="_blank"><span style="color:#3366FF">Honoring Our Veterans</span></a>&nbsp\;or&nbsp\;call (407) 841-0071.</span></span></span></div>\n
LOCATION:Mercedes-Benz of Orlando 810 Orlando Avenue Maitland\, Florida
UID:e.2138.5730
SEQUENCE:3
DTSTAMP:20260425T164717Z
URL:https://business.seminolebusiness.org/events/details/honoring-our-veterans-5730
END:VEVENT

END:VCALENDAR
