BEGIN:VCALENDAR
VERSION:2.0
PRODID:-//ChamberMaster//Event Calendar 2.0//EN
METHOD:PUBLISH
X-PUBLISHED-TTL:P3D
REFRESH-INTERVAL:P3D
CALSCALE:GREGORIAN
BEGIN:VEVENT
DTSTART:20160305T133000Z
DTEND:20160305T153000Z
X-MICROSOFT-CDO-ALLDAYEVENT:FALSE
SUMMARY:HOPE Helps Shamrock N Run 5th Annual 5K
DESCRIPTION:HOPE's 5th Annual Shamrock N Run 5K will provide much needed funds for HOPE's programs and services which include a food pantry and a resource center. You can run\, walk\, skip\, or hop through the 5K course in your St. Patty's day best\, all to help families in crisis.\n\nRegister on HOPE's website at www.hopehelps.org for $25 before February 20th! ($30 after that date)
X-ALT-DESC;FMTTYPE=text/html:<div>HOPE&#39\;s 5th Annual Shamrock N Run 5K will provide much needed funds for HOPE&#39\;s programs and services which include a food pantry and a resource center. You can run\, walk\, skip\, or hop through the 5K course in your St. Patty&#39\;s day best\, all to help families in crisis.</div>\n\n<div>Register on HOPE&#39\;s website at www.hopehelps.org for $25 before February 20th! ($30 after that date)</div>\n
LOCATION:St Luke's Lutheran Church
UID:e.2138.4345
SEQUENCE:3
DTSTAMP:20260426T031344Z
URL:https://business.seminolebusiness.org/events/details/hope-helps-shamrock-n-run-5th-annual-5k-03-05-2016-4345
END:VEVENT

END:VCALENDAR
