BEGIN:VCALENDAR
VERSION:2.0
PRODID:-//ChamberMaster//Event Calendar 2.0//EN
METHOD:PUBLISH
X-PUBLISHED-TTL:P3D
REFRESH-INTERVAL:P3D
CALSCALE:GREGORIAN
BEGIN:VEVENT
DTSTART;VALUE=DATE:20170608
DTEND;VALUE=DATE:20170609
TRANSP:TRANSPARENT
X-MICROSOFT-CDO-ALLDAYEVENT:TRUE
SUMMARY:How to access capital for your business and Banks Expo/ Como obtener capital para su negocio y expo de bancos
DESCRIPTION:Learn about the requirements to access capital\, types of loans available and how to manage your business and personal finances. Aprenda cuales son los requisitos para obtener capital\, tipos de prestamos disponibles\, y como manejar las finanzas personales y del negocio.
X-ALT-DESC;FMTTYPE=text/html:Learn about the requirements to access capital\, types of loans available and how to manage your business and personal finances. Aprenda cuales son los requisitos para obtener capital\, tipos de prestamos disponibles\, y como manejar las finanzas personales y del negocio.
LOCATION:Seminole State College- Heathrow Campus 1055 AAA Drive. Heathrow FL 32746 Room 138
UID:e.2138.6959
SEQUENCE:3
DTSTAMP:20260423T223738Z
URL:https://business.seminolebusiness.org/events/details/how-to-access-capital-for-your-business-and-banks-expo-como-obtener-capital-para-su-negocio-y-expo-de-bancos-6959
END:VEVENT

END:VCALENDAR
