BEGIN:VCALENDAR
VERSION:2.0
PRODID:-//ChamberMaster//Event Calendar 2.0//EN
METHOD:PUBLISH
X-PUBLISHED-TTL:P3D
REFRESH-INTERVAL:P3D
CALSCALE:GREGORIAN
BEGIN:VEVENT
DTSTART:20170419T213000Z
DTEND:20170419T233000Z
X-MICROSOFT-CDO-ALLDAYEVENT:FALSE
SUMMARY:How to Build a Business You Can Sell
DESCRIPTION:How to Build a Business You Can Sell\n\n \n\nOrlando Business Owners! You're invited to learn...\n\n\n\nHow to Make Your Business Work Harder\, So You Don't Have To!\n\n \n\nIf your business has plateaued\, and you and your team are operating at maximum capacity\, come learn how to break that cycle and structure your business for growth!\n\n \n\nIn this powerful workshop\, presented by Coaches Stephani and Daniela of ActionCOACH\, we guarantee you'll learn more in 2 hours than you have in the past 2 months.\n\n \n\nCome and learn time-tested principles of how to grow your business\, including...\n\n \n\n       The 6 steps to building a business that gets extraordinary results\n\n       Ideal time management\, and where you fall on the time target\n\n       How to turn your marketing into an investment\, not an expense\n\n       How to get leverage in your business\, to achieve more with less\n\n       Steps to financial mastery\, understanding the numbers that drive your business\, and how you can directly impact the key profit-drivers\n\n \n\nWho should attend this workshop:\n\nBusiness owners or executives who are ready for the next level of growth. You've already achieved a level of success\, but your business still relies on your direct involvement in order to grow\, or even maintain your current level of success.\n\n \n\n \nTake the first step in building a business you can sell...\n\n\n\nRegister online now\, or call our office at 407.437.4425\n\n \n\nSpace is limited
X-ALT-DESC;FMTTYPE=text/html:<strong><em><span style="color:red"><span style="font-family:helvetica\,sans-serif"><span style="font-size:15.0pt">How to Build a Business You Can Sell</span></span></span></em></strong><br />\n&nbsp\;<br />\n<em><span style="color:#2F5597"><span style="font-family:helvetica\,sans-serif"><span style="font-size:15.0pt">Orlando Business Owners! You&#39\;re invited to learn...</span></span></span></em><br />\n<br />\n<strong><span style="color:#2F5597"><span style="font-family:helvetica\,sans-serif"><span style="font-size:15.0pt">How to Make Your Business Work Harder\, So You Don&#39\;t Have To!</span></span></span></strong><br />\n&nbsp\;<br />\n<strong><span style="color:#666A73"><span style="font-family:helvetica\,sans-serif"><span style="font-size:11.5pt">If your business has plateaued\, and you and your team are operating at maximum capacity\, come learn how to break that cycle and structure your business for growth!</span></span></span></strong><br />\n&nbsp\;<br />\n<span style="color:#666A73"><span style="font-family:helvetica\,sans-serif"><span style="font-size:11.5pt">In this powerful workshop\, presented by Coaches Stephani and Daniela of ActionCOACH\, we guarantee you&#39\;ll learn more in 2 hours than you have in the past 2 months.</span></span></span><br />\n&nbsp\;<br />\n<span style="color:#666A73"><span style="font-family:helvetica\,sans-serif"><span style="font-size:11.5pt">Come and learn time-tested principles of how to grow your business\, including...</span></span></span><br />\n&nbsp\;<br />\n<span style="color:#666A73"><span style="font-family:symbol"><span style="font-size:10.0pt">&middot\;&nbsp\;&nbsp\;&nbsp\;&nbsp\;&nbsp\; </span></span></span><span style="color:#666A73"><span style="font-family:helvetica\,sans-serif"><span style="font-size:11.5pt">The 6 steps to building a business that gets extraordinary results</span></span></span><br />\n<span style="color:#666A73"><span style="font-family:symbol"><span style="font-size:10.0pt">&middot\;&nbsp\;&nbsp\;&nbsp\;&nbsp\;&nbsp\; </span></span></span><span style="color:#666A73"><span style="font-family:helvetica\,sans-serif"><span style="font-size:11.5pt">Ideal time management\, and where you fall on the time target</span></span></span><br />\n<span style="color:#666A73"><span style="font-family:symbol"><span style="font-size:10.0pt">&middot\;&nbsp\;&nbsp\;&nbsp\;&nbsp\;&nbsp\; </span></span></span><span style="color:#666A73"><span style="font-family:helvetica\,sans-serif"><span style="font-size:11.5pt">How to turn your marketing into an investment\, not an expense</span></span></span><br />\n<span style="color:#666A73"><span style="font-family:symbol"><span style="font-size:10.0pt">&middot\;&nbsp\;&nbsp\;&nbsp\;&nbsp\;&nbsp\; </span></span></span><span style="color:#666A73"><span style="font-family:helvetica\,sans-serif"><span style="font-size:11.5pt">How to get leverage in your business\, to achieve more with less</span></span></span><br />\n<span style="color:#666A73"><span style="font-family:symbol"><span style="font-size:10.0pt">&middot\;&nbsp\;&nbsp\;&nbsp\;&nbsp\;&nbsp\; </span></span></span><span style="color:#666A73"><span style="font-family:helvetica\,sans-serif"><span style="font-size:11.5pt">Steps to financial mastery\, understanding the numbers that drive your business\, and how you can directly impact the key profit-drivers</span></span></span><br />\n&nbsp\;<br />\n<strong><span style="color:#666A73"><span style="font-family:helvetica\,sans-serif"><span style="font-size:11.5pt">Who should attend this workshop:</span></span></span></strong><br />\n<span style="color:#666A73"><span style="font-family:helvetica\,sans-serif"><span style="font-size:11.5pt">Business owners or executives who are ready for the next level of growth. You&#39\;ve already achieved a level of success\, but your business still relies on your direct involvement in order to grow\, or even maintain your current level of success.</span></span></span><br />\n&nbsp\;<br />\n&nbsp\;\n<div style="text-align:center"><strong><span style="color:red"><span style="font-family:helvetica\,sans-serif"><span style="font-size:15.0pt">Take the first step in building a business you can sell...</span></span></span></strong><br />\n<br />\n<span style="color:#2F5597"><span style="font-family:helvetica\,sans-serif"><span style="font-size:15.0pt"><a href="https://actioncoachorlando-buildabusinessyoucansell.eventbrite.com">Register online now</a>\, or call our office at 407.437.4425</span></span></span><br />\n&nbsp\;<br />\n<span style="color:#2F5597"><span style="font-family:helvetica\,sans-serif"><span style="font-size:11.5pt">Space is limited</span></span></span></div>\n
LOCATION:Winter Park Community Center 721 W New England Ave Winter Park\, FL 32789
UID:e.2138.6697
SEQUENCE:3
DTSTAMP:20260423T193906Z
URL:https://business.seminolebusiness.org/events/details/how-to-build-a-business-you-can-sell-6697
END:VEVENT

END:VCALENDAR
