BEGIN:VCALENDAR
VERSION:2.0
PRODID:-//ChamberMaster//Event Calendar 2.0//EN
METHOD:PUBLISH
X-PUBLISHED-TTL:P3D
REFRESH-INTERVAL:P3D
CALSCALE:GREGORIAN
BEGIN:VEVENT
DTSTART:20170413T173000Z
DTEND:20170413T200000Z
X-MICROSOFT-CDO-ALLDAYEVENT:FALSE
SUMMARY:How to grow your business using digital marketing/Como crecer su negocio usando mercadeo digital
DESCRIPTION:Nowadays most consumers are found in the digital world. As a business owner is important to identify the most effective digital platforms in order to expose your business to the right market.\n\nZanibel Melo\, President of Higher Dreams expert in digital marketing\, will be talking about Facebook\, Instagram\, Google\, LinkedIn and other important resources to market your business in the digital world.\n\n\n\n\n\nHoy en dia\, la moyoria de los consumidores se encuentran en el mundo digital. Es muy importante como empresario identificar las plataformas digitales mas efectivas y su uso adecuado para tener la maxima exposicion posible.\n\nZanibel Melo\, Presedinte de Higher Dreams\, experta en el area de mercadeo digital vendra a hablar acerca de Facebook\, Instagram\, Google\, LinkedIn y otros recursos importantes para poder manejar el mundo digital.
X-ALT-DESC;FMTTYPE=text/html:Nowadays most consumers are found in the digital world. As a business owner is important to identify the most effective digital platforms in order to expose your business to the right market.<br />\nZanibel Melo\, President of Higher Dreams expert in digital marketing\, will be talking about Facebook\, Instagram\, Google\, LinkedIn and other important resources to market your business in the digital world.<br />\n<br />\n<br />\nHoy en dia\, la moyoria de los consumidores se encuentran en el mundo digital. Es muy importante como empresario identificar las plataformas digitales mas efectivas y su uso adecuado para tener la maxima exposicion posible.<br />\nZanibel Melo\, Presedinte de Higher Dreams\, experta en el area de mercadeo digital vendra a hablar acerca de Facebook\, Instagram\, Google\, LinkedIn y otros recursos importantes para poder manejar el mundo digital.<br />\n&nbsp\;
LOCATION:1055 AAA. Drive Heathrow\, FL 32746 Room:307
UID:e.2138.6695
SEQUENCE:3
DTSTAMP:20260423T194143Z
URL:https://business.seminolebusiness.org/events/details/how-to-grow-your-business-using-digital-marketing-como-crecer-su-negocio-usando-mercadeo-digital-6695
END:VEVENT

END:VCALENDAR
