BEGIN:VCALENDAR
VERSION:2.0
PRODID:-//ChamberMaster//Event Calendar 2.0//EN
METHOD:PUBLISH
X-PUBLISHED-TTL:P3D
REFRESH-INTERVAL:P3D
CALSCALE:GREGORIAN
BEGIN:VEVENT
DTSTART:20171213T210000Z
DTEND:20171213T230000Z
X-MICROSOFT-CDO-ALLDAYEVENT:FALSE
SUMMARY:How to Make a Million Dollar Shift in 2018
DESCRIPTION:STOP! Take 2 Hours To Grow Your Business!\n\nYou know\, growing a business brings challenges. But how you deal with the challenges and related growing pains is the difference between success and failure. So what are you going to make different for 2018?\n\n\nDuring this power-packed 6 Steps seminar\, we will give you the chance to step out of your business and get focused.  You will hear case studies and walk away with concrete ideas on how to increase your business profits\, make your team more effective and get a grip on your time management. You will leave this practical seminar with a clearer direction and new tools to achieve your goals on 2018. \n\n\n\n\nSo what are you waiting for?\n\n \n\nWe have 50 seats available and we'd love to see you there. Our last seminar in October was a complete sell-out so we advise you book early to secure your seat!  This event will be bigger and better than last time - we have secured a fantastic venue.\n\nSimply SAVE YOUR SEAT NOW.  All you'll need to bring along is yourself and an open mind to learn something new.\n\nOh\, and don't forget your business cards   we tend to find people naturally network with other business owners and you never know\, your next best customer might be in the room!\n\nOur events are always fun\, friendly and welcoming. You'll have plenty of time to ask questions and share your experiences. \n\n \n\nREGISTER NOW!!!
X-ALT-DESC;FMTTYPE=text/html:<h2><span style="color:#DAA520"><em>STOP! Take 2 Hours To Grow Your Business!</em></span></h2>\n\n<div>You know\, growing&nbsp\;a business brings challenges. But how you deal with the challenges and related growing pains is the difference between success and&nbsp\;failure. So what are you going to make different for 2018?</div>\n\n<div>\n<p>During this power-packed 6 Steps seminar\, we will give you the chance to step out of your business and get focused. &nbsp\;You will hear case studies and walk away with concrete ideas on how to increase your business profits\, make your team more effective and get a grip on your time management. You will leave this practical seminar with a clearer direction and new tools to achieve your goals on 2018.&nbsp\;</p>\n</div>\n\n<h2><br />\nSo what are you waiting for?</h2>\n\n<h2>&nbsp\;</h2>\n\n<p>We have 50 seats available&nbsp\;and we&rsquo\;d love to see you there. Our last seminar in October was a complete sell-out so we advise you book early to secure your seat! &nbsp\;This event will be bigger and better than last time - we have secured a fantastic venue.</p>\n\n<p>Simply&nbsp\;<a href="http://onemillionshift.ontrapages.com/actioncoachorlando"><strong>SAVE YOUR SEAT NOW</strong>.</a>&nbsp\; All you&rsquo\;ll need to bring along is yourself and an open mind to learn something new.</p>\n\n<p>Oh\, and don&rsquo\;t forget your business cards &ndash\; we tend to find people naturally network with other business owners and you never know\, your next best customer might be in the room!</p>\n\n<p>Our events are always&nbsp\;fun\, friendly and welcoming. You&#39\;ll have plenty of time to ask questions and share your experiences.&nbsp\;</p>\n\n<p>&nbsp\;</p>\n\n<h2><a href="http://onemillionshift.ontrapages.com/actioncoachorlando"><span style="color:#DAA520">REGISTER NOW!!!</span></a></h2>\n
LOCATION:495 N. Keller Rd\, Suite 150\, Maitland\, FL 32751
UID:e.2138.8508
SEQUENCE:3
DTSTAMP:20260424T093927Z
URL:https://business.seminolebusiness.org/events/details/how-to-make-a-million-dollar-shift-in-2018-8508
END:VEVENT

END:VCALENDAR
