BEGIN:VCALENDAR
VERSION:2.0
PRODID:-//ChamberMaster//Event Calendar 2.0//EN
METHOD:PUBLISH
X-PUBLISHED-TTL:P3D
REFRESH-INTERVAL:P3D
CALSCALE:GREGORIAN
BEGIN:VEVENT
DTSTART:20190502T223000Z
DTEND:20190503T003000Z
X-MICROSOFT-CDO-ALLDAYEVENT:FALSE
SUMMARY:How to Maximize Social Security Benefits & Minimize Medicare Premiums
DESCRIPTION:Please join us for an informative retirement planning workshop on how to maximize your social security benefits and minimize your medicare premiums with expert guest presenter\, Mary Beth Franklin.\n\n\n\nDuring this workshop\, Mary Beth will share proven Social Security strategies and insight to incorporate in your retirement planning. This is a unique opportunity for you to learn strategies to leverage Social Security and make the most of your retirement years!\n\n\n\nMary Beth Franklin is a personal finance and health issues expert for seniors. With a background as a Capitol Hill reporter\, she offers an insider's view of Washington regarding the prospects for reform of government entitlement programs and tax policy. She is a contributing editor for Investment News and writes regularly on Social Security issues and considerations. She has appeared on NBC's Today Show and CNN to discuss a variety of issues affecting older Americans.\n\n\n\nParking: There are several public parking options within downtown Orlando convenient to the venue. Your are welcome to park in any of these options by paying the applicable parking fee which usually ranges between $1 per hour to $10 for the day. \n\n\n\nThe closest garages:\n\n\n\nSunTrust Garage: 25 W South St\, Orlando\, FL 32801 (corner of South St. and Boone Ave.)\n\n\n\n55 West Garage: 60 W Pine St\, Orlando\, FL 32801\n\n\n\nGarland Lot: 109 W Pine St\, Orlando\, FL 32801 (corner of Pine St. and Garland Ave.)
X-ALT-DESC;FMTTYPE=text/html:<span style="color: rgb(29\, 33\, 41)\; font-family: helvetica\,arial\,sans-serif\; font-size: 14px\;">Please join us for an informative retirement planning workshop on how to maximize your social security benefits and minimize your medicare premiums with expert guest presenter\, Mary Beth Franklin.</span><br />\n<br />\n<span style="color: rgb(29\, 33\, 41)\; font-family: helvetica\,arial\,sans-serif\; font-size: 14px\;">During this workshop\, Mary Beth will share proven Social Security strategies and insight to incorporate in your retirement planning. This is a unique opportunity for you to learn strategies to leverage Social Security and make the most of your retirement years!</span><br />\n<br />\n<span style="color: rgb(29\, 33\, 41)\; font-family: helvetica\,arial\,sans-serif\; font-size: 14px\;">Mary Beth Franklin is a personal finance and health issues expert for seniors. With a background as a Capitol Hill reporter\, she offers an insider&rsquo\;s view of Washington regarding the prospects for reform of government entitlement programs and tax policy. She is a contributing editor for Investment News and writes regularly on Social Security issues and considerations. She has appeared on NBC&rsquo\;s Today Show and CNN to discuss a variety of issues affecting older Americans.</span><br />\n<br />\n<span style="color: rgb(29\, 33\, 41)\; font-family: helvetica\,arial\,sans-serif\; font-size: 14px\;">Parking: There are several public parking options within downtown Orlando convenient to the venue. Your are welcome to park in any of these options by paying the applicable parking fee which usually ranges between $1 per hour to $10 for the day. </span><br />\n<br />\n<span style="color: rgb(29\, 33\, 41)\; font-family: helvetica\,arial\,sans-serif\; font-size: 14px\;">The closest garages:</span><br />\n<br />\n<span style="color: rgb(29\, 33\, 41)\; font-family: helvetica\,arial\,sans-serif\; font-size: 14px\;">SunTrust Garage: 25 W South St\, Orlando\, FL 32801 (corner of South St. and Boone Ave.)</span><br />\n<br />\n<span style="color: rgb(29\, 33\, 41)\; font-family: helvetica\,arial\,sans-serif\; font-size: 14px\;">55 West Garage: 60 W Pine St\, Orlando\, FL 32801</span><br />\n<br />\n<span style="color: rgb(29\, 33\, 41)\; font-family: helvetica\,arial\,sans-serif\; font-size: 14px\;">Garland Lot: 109 W Pine St\, Orlando\, FL 32801 (corner of Pine St. and Garland Ave.)</span>
LOCATION:The Ballroom at Church Street 225 S Garland Ave\, Orlando\, Florida 32801
UID:e.2138.15140
SEQUENCE:3
DTSTAMP:20260422T081246Z
URL:https://business.seminolebusiness.org/events/details/how-to-maximize-social-security-benefits-minimize-medicare-premiums-15140
END:VEVENT

END:VCALENDAR
