BEGIN:VCALENDAR
VERSION:2.0
PRODID:-//ChamberMaster//Event Calendar 2.0//EN
METHOD:PUBLISH
X-PUBLISHED-TTL:P3D
REFRESH-INTERVAL:P3D
CALSCALE:GREGORIAN
BEGIN:VEVENT
DTSTART:20170615T150000Z
DTEND:20170615T163000Z
X-MICROSOFT-CDO-ALLDAYEVENT:FALSE
SUMMARY:How To Stay Legally Fit As A Realtor by Richard Fryer
DESCRIPTION:We are so excited to have Richard Fryer as our speaker for the fantastic event!   He is going to cover many aspects of real estate compliance\, new and proposed laws\, and how to stay within the ethical lines of real estate as a sales associate\, broker or owning your own brokerage.  \n\nMr. Fryer is a member of FREC and 2016 Chairman of FREC.  He is a very well known and distinguished member of the real estate industry.  Mr. Fyer is a DBPR Permitted Instructor\, and holds many designations. Including  ABR\, AHWD\, DREI\, GREEN\, MRP\, RSPS\, SFR and SRES.  He is an active and licensed realtor\, broker and  owns IFREC Real Estate School.  Mr. Fyer has won many awards and serves in Local\, State and National Association of Realtors.
X-ALT-DESC;FMTTYPE=text/html:<p>We are so excited to have Richard Fryer as our speaker for the fantastic event! &nbsp\; He is going to cover many aspects of real estate compliance\, new and proposed laws\, and how to stay within the ethical lines of real estate as a sales associate\, broker or owning your own brokerage. &nbsp\;</p>\n\n<p>Mr. Fryer is a member of FREC and 2016 Chairman of FREC. &nbsp\;He is a very well known and distinguished member of the real estate industry. &nbsp\;Mr. Fyer is a DBPR Permitted Instructor\, and holds many designations. Including&nbsp\; ABR\, AHWD\, DREI\, GREEN\, MRP\, RSPS\, SFR and SRES. &nbsp\;He is an active and licensed realtor\, broker and &nbsp\;owns IFREC Real Estate School. &nbsp\;Mr. Fyer has won many awards and serves in Local\, State and National Association of Realtors.</p>\n
LOCATION:Hilton Garden Inn Lake Mary 705 Currency Circle Lake Mary Fl 32746
UID:e.2138.6960
SEQUENCE:3
DTSTAMP:20260423T223458Z
URL:https://business.seminolebusiness.org/events/details/how-to-stay-legally-fit-as-a-realtor-6960
END:VEVENT

END:VCALENDAR
